BEGIN:VCALENDAR
VERSION:2.0
PRODID:-//Landesjagdverband Rheinland-Pfalz e.V. - ECPv6.10.2//NONSGML v1.0//EN
CALSCALE:GREGORIAN
METHOD:PUBLISH
X-WR-CALNAME:Landesjagdverband Rheinland-Pfalz e.V.
X-ORIGINAL-URL:https://ljv-rlp.de
X-WR-CALDESC:Veranstaltungen für Landesjagdverband Rheinland-Pfalz e.V.
REFRESH-INTERVAL;VALUE=DURATION:PT1H
X-Robots-Tag:noindex
X-PUBLISHED-TTL:PT1H
BEGIN:VTIMEZONE
TZID:Europe/Berlin
BEGIN:DAYLIGHT
TZOFFSETFROM:+0100
TZOFFSETTO:+0200
TZNAME:CEST
DTSTART:20190331T010000
END:DAYLIGHT
BEGIN:STANDARD
TZOFFSETFROM:+0200
TZOFFSETTO:+0100
TZNAME:CET
DTSTART:20191027T010000
END:STANDARD
BEGIN:DAYLIGHT
TZOFFSETFROM:+0100
TZOFFSETTO:+0200
TZNAME:CEST
DTSTART:20200329T010000
END:DAYLIGHT
BEGIN:STANDARD
TZOFFSETFROM:+0200
TZOFFSETTO:+0100
TZNAME:CET
DTSTART:20201025T010000
END:STANDARD
BEGIN:DAYLIGHT
TZOFFSETFROM:+0100
TZOFFSETTO:+0200
TZNAME:CEST
DTSTART:20210328T010000
END:DAYLIGHT
BEGIN:STANDARD
TZOFFSETFROM:+0200
TZOFFSETTO:+0100
TZNAME:CET
DTSTART:20211031T010000
END:STANDARD
BEGIN:DAYLIGHT
TZOFFSETFROM:+0100
TZOFFSETTO:+0200
TZNAME:CEST
DTSTART:20220327T010000
END:DAYLIGHT
BEGIN:STANDARD
TZOFFSETFROM:+0200
TZOFFSETTO:+0100
TZNAME:CET
DTSTART:20221030T010000
END:STANDARD
BEGIN:DAYLIGHT
TZOFFSETFROM:+0100
TZOFFSETTO:+0200
TZNAME:CEST
DTSTART:20230326T010000
END:DAYLIGHT
BEGIN:STANDARD
TZOFFSETFROM:+0200
TZOFFSETTO:+0100
TZNAME:CET
DTSTART:20231029T010000
END:STANDARD
END:VTIMEZONE
BEGIN:VEVENT
DTSTART;TZID=Europe/Berlin:20230826T080000
DTEND;TZID=Europe/Berlin:20230826T170000
DTSTAMP:20260422T005700
CREATED:20230509T082003Z
LAST-MODIFIED:20230509T082003Z
UID:10001660-1693036800-1693069200@ljv-rlp.de
SUMMARY:Kreismeisterschaft Rhein-Hunsrück
DESCRIPTION:
URL:https://ljv-rlp.de/termin/kreismeisterschaft-rhein-hunsrueck/
LOCATION:Kastellaun
GEO:50.0714156;7.4451316
END:VEVENT
BEGIN:VEVENT
DTSTART;TZID=Europe/Berlin:20230513T080000
DTEND;TZID=Europe/Berlin:20230513T170000
DTSTAMP:20260422T005700
CREATED:20230509T081049Z
LAST-MODIFIED:20230509T081049Z
UID:10001650-1683964800-1683997200@ljv-rlp.de
SUMMARY:Regionalmeisterschaft Nord
DESCRIPTION:
URL:https://ljv-rlp.de/termin/regionalmeisterschaft-nord/
LOCATION:Kastellaun
GEO:50.0714156;7.4451316
END:VEVENT
BEGIN:VEVENT
DTSTART;TZID=Europe/Berlin:20200627T000000
DTEND;TZID=Europe/Berlin:20200628T000000
DTSTAMP:20260422T005700
CREATED:20191111T150904Z
LAST-MODIFIED:20200326T150321Z
UID:10001318-1593216000-1593302400@ljv-rlp.de
SUMMARY:Landesmeisterschaft im jagdlichen Schießen
DESCRIPTION:Aufgrund der aktuellen Corona-Situation\, ist diese Veranstaltung abgesagt.
URL:https://ljv-rlp.de/termin/landesmeisterschaft-im-jagdlichen-schiessen-2/
LOCATION:Kastellaun
GEO:50.0714156;7.4451316
END:VEVENT
BEGIN:VEVENT
DTSTART;VALUE=DATE:20190223
DTEND;VALUE=DATE:20190224
DTSTAMP:20260422T005700
CREATED:20181017T120342Z
LAST-MODIFIED:20221219T085653Z
UID:10001285-1550880000-1550966399@ljv-rlp.de
SUMMARY:SchießobleuteTagung
DESCRIPTION:
URL:https://ljv-rlp.de/termin/schiessobleutetagung/
LOCATION:Kastellaun
GEO:50.0714156;7.4451316
END:VEVENT
END:VCALENDAR