BEGIN:VCALENDAR
VERSION:2.0
PRODID:-//Landesjagdverband Rheinland-Pfalz e.V. - ECPv6.10.2//NONSGML v1.0//EN
CALSCALE:GREGORIAN
METHOD:PUBLISH
X-ORIGINAL-URL:https://ljv-rlp.de
X-WR-CALDESC:Veranstaltungen für Landesjagdverband Rheinland-Pfalz e.V.
REFRESH-INTERVAL;VALUE=DURATION:PT1H
X-Robots-Tag:noindex
X-PUBLISHED-TTL:PT1H
BEGIN:VTIMEZONE
TZID:Europe/Berlin
BEGIN:DAYLIGHT
TZOFFSETFROM:+0100
TZOFFSETTO:+0200
TZNAME:CEST
DTSTART:20190331T010000
END:DAYLIGHT
BEGIN:STANDARD
TZOFFSETFROM:+0200
TZOFFSETTO:+0100
TZNAME:CET
DTSTART:20191027T010000
END:STANDARD
END:VTIMEZONE
BEGIN:VEVENT
DTSTART;TZID=Europe/Berlin:20190405T190000
DTEND;TZID=Europe/Berlin:20190405T190000
DTSTAMP:20260422T055026
CREATED:20190307T082833Z
LAST-MODIFIED:20190307T082833Z
UID:10001305-1554490800-1554490800@ljv-rlp.de
SUMMARY:FAJ Pirmasens-Zweibrücken: Stammtisch
DESCRIPTION:Der nächste Stammtisch am 05. April 2019 findet wieder zur gewohnten Zeit ab 19.00 Uhr statt. Anmeldung bei Sandra Bohrer oder bei Wirtin Nerka (Tel. 0173 4128515).
URL:https://ljv-rlp.de/termin/faj-pirmasens-zweibruecken-stammtisch/
LOCATION:Fumbach\, Fumbach\, 66953 Pirmasens\, Rheinland-Pfalz\, 66953\, Deutschland
CATEGORIES:FAJ Termine
GEO:49.2152781;7.644159
X-APPLE-STRUCTURED-LOCATION;VALUE=URI;X-ADDRESS=Fumbach Fumbach 66953 Pirmasens Rheinland-Pfalz 66953 Deutschland;X-APPLE-RADIUS=500;X-TITLE=Fumbach:geo:7.644159,49.2152781
END:VEVENT
BEGIN:VEVENT
DTSTART;VALUE=DATE:20190406
DTEND;VALUE=DATE:20190407
DTSTAMP:20260422T055026
CREATED:20181017T120646Z
LAST-MODIFIED:20190328T135427Z
UID:10001294-1554508800-1554595199@ljv-rlp.de
SUMMARY:Hornmeistertagung
DESCRIPTION:
URL:https://ljv-rlp.de/termin/hornmeistertagung/
LOCATION:Landesjagdverband Rheinland-Pfalz e.V.\, Fasanerie 1\, Gensingen\, Rheinland-Pfalz\, 55457\, Deutschland
GEO:49.8966084;7.9177049
X-APPLE-STRUCTURED-LOCATION;VALUE=URI;X-ADDRESS=Landesjagdverband Rheinland-Pfalz e.V. Fasanerie 1 Gensingen Rheinland-Pfalz 55457 Deutschland;X-APPLE-RADIUS=500;X-TITLE=Fasanerie 1:geo:7.9177049,49.8966084
END:VEVENT
BEGIN:VEVENT
DTSTART;VALUE=DATE:20190410
DTEND;VALUE=DATE:20190419
DTSTAMP:20260422T055026
CREATED:20190205T134754Z
LAST-MODIFIED:20190220T083209Z
UID:10001188-1554854400-1555631999@ljv-rlp.de
SUMMARY:FAJ Donnersberg: Osterhasenpirsch für behinderte Kinder der Schule am Donnersberg
DESCRIPTION:In der Zeit vom 10. bis 18. April 2019 (außer Samstag u. Sonntag)  wird täglich eine andere Schulklasse mit ihren Lehrern und Betreuern im Revier Münchweiler links der Alsenz dem Osterhasen auf der Spur sein. \nDer tägliche Ablauf beginnt mit der Anreise aus Rockenhausen. Danach folgt ein Frühstück\, anschließend begeben wir uns in den Wald um die vom Osterhasen versteckten Geschenke zu suchen. Zum Abschluss wird an der Hütte nochmals eine kleine Suchaktion für die Rollstuhlfahrer stattfinden.
URL:https://ljv-rlp.de/termin/osterhasenpirsch-fuer-behinderte-kinder-der-schule-am-donnersberg/
LOCATION:Heuberghütte Lohnsfeld\, Heuberghütte\, 67727 Lohnsfeld\, Rheinland-Pfalz\, Deutschland
CATEGORIES:FAJ Termine
ORGANIZER;CN="Fachausschuss J%C3%A4gerinnen Donnersberg":MAILTO:rbickmann@web.de
GEO:49.5505327;7.8532225
X-APPLE-STRUCTURED-LOCATION;VALUE=URI;X-ADDRESS=Heuberghütte Lohnsfeld Heuberghütte 67727 Lohnsfeld Rheinland-Pfalz Deutschland;X-APPLE-RADIUS=500;X-TITLE=Heuberghütte:geo:7.8532225,49.5505327
END:VEVENT
BEGIN:VEVENT
DTSTART;TZID=Europe/Berlin:20190411T083000
DTEND;TZID=Europe/Berlin:20190411T180000
DTSTAMP:20260422T055026
CREATED:20181205T131851Z
LAST-MODIFIED:20190408T141146Z
UID:10001296-1554971400-1555005600@ljv-rlp.de
SUMMARY:Niederwildsymposium des Landesjagdverbandes Rheinland-Pfalz e.V.  in Kooperation mit dem Deutschen Jagdverband e.V.
DESCRIPTION:Klartext statt Ausreden – die Biodiversität in Feld und Wiese muss eine Zukunft haben!\nDer Landesjagdverband Rheinland-Pfalz e.V. und der Deutsche Jagdverband e.V. laden gemeinsam zum Niederwildsymposium in das Kurfürstliche Schloss zu Mainz ein.\nDas Symposium ist Teil des Wildschutzprogramms Feld & Wiese des Landesjagdverbandes Rheinland-Pfalz e.V. \nZiel der eintägigen Fachtagung ist es\, die Gründe für den anhaltenden Rückgang von Insekten\, Niederwild und heimischen Bodenbrütern zu analysieren. Landwirte\, Jäger\, Naturschützer und Wissenschaftler wollen gemeinsam potentielle Lösungsansätze und Maßnahmen definieren\, um den Lebensraum Offenland zu erhalten und nachhaltig zu nutzen. \nKritisch hinterfragt werden soll\, ob die bundesweiten Projekte\, Maßnahmen und politischen Steuerungsinstrumente ausreichen\, die dringend notwendige Trendwende hinsichtlich der Entwicklungen in der Agrarlandschaft einzuleiten. \nDie Teilnehmer haben bei der abschließenden Podiumsdiskussion Gelegenheit\, sich aktiv an der Diskussion zu beteiligen. \nAnmeldung ab 4. Februar 2019 möglich. \nAnmeldeschluss: 5. April 2019 \nTeilnahmegebühr: \nDie reguläre Teilnahmegebühr beträgt 25\,00 €. Studierende zahlen eine ermäßigte Gebühr von 15\,00 € (der Studierendenausweis ist am Veranstaltungstag vorzuzeigen).\nDie Gebühr ist nach Erhalt der Anmeldebestätigung zu überweisen (weitere Informationen finden Sie in der E-Mail zur Anmeldebestätigung). Die Teilnahmegebühr beinhaltet die Tagungsunterlagen\, alle Tagungsgetränke sowie das Mittagessen.\nEine Teilnahme am Niederwildsymposium ist nur nach vorheriger Entrichtung der Tagungsgebühr (bis zum 10. April 2019) möglich. \nWichtiger Hinweis: Die Mitnahme von Hunden ist nicht gestattet. In den Räumen des Kurfürstlichen Schlosses zu Mainz gilt ein Betretungsverbot für Hunde.   \nProgramm\nTagesmoderation\nGundolf Bartmann · Vizepräsident LJV RLP\nDr. Tanja Busse · Journalistin und Autorin \nab 08:30  Anmeldung \n09:15  Begrüßung · Präsident LJV RLP  Dieter Mahr \n09:30  Schutz des Wildes und der Biodiversitätals Aufgabe der Umweltpolitik · Ulrike Höfken\, Ministerium für Umwelt\, Energie\, Ernährung und Forsten Rheinland-Pfalz \n10:00  Spannungsfeld Landwirtschaft und Artenschutz – Forderungen aus Sicht der Wissenschaft · Prof. Dr. Klaus Hackländer\, Universität für Bodenkultur Wien \nDiskussion \n10:45  Kaffeepause \n11:15  Rebhuhnschutz in der EU · Dr. Francis Buner\, PARTRIDGE Interreg-Project\, Loddington\, GBR \n11:45  Gemeinsame Agrarpolitik (GAP) nach 2020 – Möglichkeiten und Chancen · Dr. Hubertus Wolfgarten\,  Bundesministerium für Ernährung und Landwirtschaft\, Bonn \n12:15  Ziele für Nutzung und Schutz im Offenland · Cosima Lindemann\, NABU Rheinland-Pfalz Diskussion \n13:00  Mittagspause \n14:00  Prädatorenbejagung als Instrument des aktiven Artenschutzes · Dr. Astrid Sutor\, Deutscher Jagdverband\,  Berlin \n14:30  Ökologische Nischen und ihr Wert für die Biodiversität · Prof. Dr. Michael Rademacher\, Technische Hochschule Bingen Diskussion \n15:15  Kaffeepause \n15:45 – 17:00    Podiumsdiskussion mit Publikumsbeteiligung · Moderation Dr.Tanja Busse \nPodiumsteilnehmer \n\nSarah Wirtz\,  Projektleiterin LJV RLP· Impuls: Erste Erfahrungen und Forderungen nach zwei Jahren Wildschutzprogramm Feld & Wiese\n\nMarco Weber\, MdL (FDP) Vorsitzender des Landtagsausschusses für Umwelt\, Energie\, Ernährung und Forsten Rheinland-Pfalz\nArnold Schmitt\, MdL (CDU)\, Vorsitzender des Landtagsausschusses für Landwirtschaft und Weinbau Rheinland-Pfalz/ Nico Steinbach\, MdL (SPD)\, stellv. Vorsitzender des Landtagsausschusses für Landwirtschaft und Weinbau Rheinland-Pfalz\nProf. Dr. Klaus Hackländer\, Universität für Bodenkultur\, Wien\nDr. Nikolaus Bretschneider\, Vizepräsident LJV Hessen\nDr. Janosch Arnold\, Leiter Wildforschungsstelle Aulendorf\, Baden-Württemberg\nEberhard Hartelt\, Präsident Bauern- und Winzerverband RLP Süd e.V. und Umweltbeauftragter des DBV\n\nSchlusswort und Ausblick · Gundolf Bartmann\, Vizepräsident LJV RLP \nAnfragen bitte nur an:\nLJV-Geschäftsstelle\nTelefon: 06727 8944-0\nFax: 06727 8944-22\nE-Mail: s.wirtz@ljv-rlp.de oder c.lintow@ljv-rlp.de
URL:https://ljv-rlp.de/termin/2-niederwildsymposium-des-landesjagdverbandes-rheinland-pfalz-e-v-in-kooperation-mit-dem-deutschen-jagdverband-e-v/
LOCATION:Kurfürstliches Schloss zu Mainz\, Peter-Altmeier-Allee 9\, Mainz\, Rheinland-Pfalz\, 55116\, Deutschland
ORGANIZER;CN="Landsjagdverband Rheinland-Pfalz":MAILTO:info@ljv-rlp.de
GEO:50.0069542;8.2698184
X-APPLE-STRUCTURED-LOCATION;VALUE=URI;X-ADDRESS=Kurfürstliches Schloss zu Mainz Peter-Altmeier-Allee 9 Mainz Rheinland-Pfalz 55116 Deutschland;X-APPLE-RADIUS=500;X-TITLE=Peter-Altmeier-Allee 9:geo:8.2698184,50.0069542
END:VEVENT
BEGIN:VEVENT
DTSTART;TZID=Europe/Berlin:20190413T090000
DTEND;TZID=Europe/Berlin:20190413T090000
DTSTAMP:20260422T055026
CREATED:20190307T083841Z
LAST-MODIFIED:20190307T091208Z
UID:10001306-1555146000-1555146000@ljv-rlp.de
SUMMARY:FAJ Pirmasens-Zweibrücken: Flintenschießen für Frauen
DESCRIPTION:Am 13. April 2019 findet ein Flintenschießtraining für Frauen statt. \nOrt: Schießstand Fumbach \nUhrzeit: 09.00 Uhr \nTeilnehmerzahl: höchstens 12 Jägerinnen \nTeilnahmegebühr: 10\,- Euro \nGeschossen wird Skeet und Trapp. \nDie “Chips” für die Tontauben muß jede selbst zahlen. Bitte Flinten und genügend Munition mitbringen. \nIm Anschluß wird uns Nerka bestimmt noch eine Kleinigkeit zur Stärkung reichen. Anmeldung bei Sandra Bohrer.
URL:https://ljv-rlp.de/termin/faj-pirmasens-zweibruecken-flintenschiessen-fuer-frauen/
LOCATION:Fumbach\, Fumbach\, 66953 Pirmasens\, Rheinland-Pfalz\, 66953\, Deutschland
CATEGORIES:FAJ Termine
GEO:49.2152781;7.644159
X-APPLE-STRUCTURED-LOCATION;VALUE=URI;X-ADDRESS=Fumbach Fumbach 66953 Pirmasens Rheinland-Pfalz 66953 Deutschland;X-APPLE-RADIUS=500;X-TITLE=Fumbach:geo:7.644159,49.2152781
END:VEVENT
BEGIN:VEVENT
DTSTART;TZID=Europe/Berlin:20190413T090000
DTEND;TZID=Europe/Berlin:20190413T120000
DTSTAMP:20260422T055026
CREATED:20190220T082623Z
LAST-MODIFIED:20190220T082623Z
UID:10001303-1555146000-1555156800@ljv-rlp.de
SUMMARY:FAJ Alzey-Worms: Schrotschießen für Jägerinnen
DESCRIPTION:Der FAJ Alzey-Worms bieten auf dem Wurfscheibenstand der Kreisgruppe Alzey-Worms\, Anlage Neuhof ein monatliches Übungsschießen (Schrot) nur für Frauen an. Von 9.00 bis 12.00 Uhr können Damen\, auch unter professioneller Anleitung\, Rollhasen\, Skeet\, Trap oder Jagdparcours schießen. Interessierte Frauen ohne Jagdschein können\, nach Abschluss einer Versicherung\, ebenfalls mit schießen. \nAnmeldungen  \nHeike Hitzke\nTelefon: 0172 7178993\nE-Mail: h.hitzke@online.de \nRückfragen bei \nAnnette Schultheiß\nTelefon: 0171 6034018
URL:https://ljv-rlp.de/termin/faj-alzey-worms-schrotschiessen-fuer-jaegerinnen-2/
LOCATION:Ralingen\, Ralingen\, Rheinland-Pfalz\, Deutschland
CATEGORIES:FAJ Termine
GEO:49.6689096;7.9533002
END:VEVENT
BEGIN:VEVENT
DTSTART;TZID=Europe/Berlin:20190415T183000
DTEND;TZID=Europe/Berlin:20190415T183000
DTSTAMP:20260422T055026
CREATED:20190403T065438Z
LAST-MODIFIED:20190403T065543Z
UID:10001309-1555353000-1555353000@ljv-rlp.de
SUMMARY:Junge Jäger Mayen-Koblenz: Einführungsabend Jagdscheinkurs 2019
DESCRIPTION:Beginn des Jagdscheinkurs 2019 der Kreisgruppe Mayen-Koblenz mit dem Einführungsabend. \nFür alle angemeldeten Teilnehmer/Jagdscheinanwärter. \nAnsprechpartner: Obleute Junge Jäger der Kreisgruppe Mayen-Koblenz: \nAndreas Wieschollek\nObmann für Junge Jäger\nE-Mail: jungejaeger@ljv-myk.de \nChristian Birkenheier\nStellv. Obmann für Junge Jäger\nE-Mail: jungejaeger@ljv-myk.de \nLothar Hildebrandt\nStellv. Obmann für Junge Jäger\nE-Mail: jungejaeger@ljv-myk.de
URL:https://ljv-rlp.de/termin/junge-jaeger-mayen-koblenz-einfuehrungsabend-jagdscheinkurs-2019/
LOCATION:Casino Ahsenmacher\, Klingelwiese\, Andernach\, Rheinland-Pfalz\, 56626\, Deutschland
CATEGORIES:Junge Jäger Termine
GEO:50.42712;7.3858404
X-APPLE-STRUCTURED-LOCATION;VALUE=URI;X-ADDRESS=Casino Ahsenmacher Klingelwiese Andernach Rheinland-Pfalz 56626 Deutschland;X-APPLE-RADIUS=500;X-TITLE=Klingelwiese:geo:7.3858404,50.42712
END:VEVENT
END:VCALENDAR