BEGIN:VCALENDAR
VERSION:2.0
PRODID:-//Landesjagdverband Rheinland-Pfalz e.V. - ECPv6.10.2//NONSGML v1.0//EN
CALSCALE:GREGORIAN
METHOD:PUBLISH
X-ORIGINAL-URL:https://ljv-rlp.de
X-WR-CALDESC:Veranstaltungen für Landesjagdverband Rheinland-Pfalz e.V.
REFRESH-INTERVAL;VALUE=DURATION:PT1H
X-Robots-Tag:noindex
X-PUBLISHED-TTL:PT1H
BEGIN:VTIMEZONE
TZID:Europe/Berlin
BEGIN:DAYLIGHT
TZOFFSETFROM:+0100
TZOFFSETTO:+0200
TZNAME:CEST
DTSTART:20190331T010000
END:DAYLIGHT
BEGIN:STANDARD
TZOFFSETFROM:+0200
TZOFFSETTO:+0100
TZNAME:CET
DTSTART:20191027T010000
END:STANDARD
END:VTIMEZONE
BEGIN:VEVENT
DTSTART;VALUE=DATE:20190302
DTEND;VALUE=DATE:20190303
DTSTAMP:20260422T072331
CREATED:20181017T120425Z
LAST-MODIFIED:20221219T085651Z
UID:10001286-1551484800-1551571199@ljv-rlp.de
SUMMARY:Hundeobleutetagung
DESCRIPTION:
URL:https://ljv-rlp.de/termin/hundeobleutetagung/
LOCATION:Landesjagdverband Rheinland-Pfalz e.V.\, Fasanerie 1\, Gensingen\, Rheinland-Pfalz\, 55457\, Deutschland
GEO:49.8966084;7.9177049
X-APPLE-STRUCTURED-LOCATION;VALUE=URI;X-ADDRESS=Landesjagdverband Rheinland-Pfalz e.V. Fasanerie 1 Gensingen Rheinland-Pfalz 55457 Deutschland;X-APPLE-RADIUS=500;X-TITLE=Fasanerie 1:geo:7.9177049,49.8966084
END:VEVENT
BEGIN:VEVENT
DTSTART;TZID=Europe/Berlin:20190302T090000
DTEND;TZID=Europe/Berlin:20190302T170000
DTSTAMP:20260422T072331
CREATED:20181221T130030Z
LAST-MODIFIED:20190219T105743Z
UID:10001182-1551517200-1551546000@ljv-rlp.de
SUMMARY:Wildschaden Feld und Wiese: Verhüten\, erkennen und berechnen
DESCRIPTION:Dieses Seminar ist ausgebucht! Anmeldungen nur über die Nachrücker-Liste möglich.\nIn Zeiten der Klimaveränderung werden die zeitlichen Abstände der Mastjahre bei Waldbäumen immer kürzer. Nach Aufnahme von Bucheckern\, Eicheln & Co. benötigen die Schwarzkittel zum Ausgleich vermehrt tierisches Eiweiß\, das sie durch Suche und Aufnahme von Würmern\, Larven usw. unter der Oberfläche von Feldern und Grünflächen meist reichlich finden – mit den damit einhergehenden Wiesenschäden. \nAm Seminartag wird Landwirt und Revierjagdmeister Robert Ackermann die Wertermittlung der unterschiedlichen Grünlandarten erläutern und ersatzpflichtige Wildschäden durch Schalenwild und Niederwild an anderen landwirtschaftlichen Kulturen ausführlich behandeln. \nDarüber hinaus werden Schadbilder aufgezeigt\, die nicht durch Wild verursacht wurden. Ebenso werden verschiedene Arten der Wildschadensberechnung besprochen. Dabei geht der Referent auch auf wirksame Schutzmaßnahmen und sonstige Möglichkeiten der Wildschadensvermeidung einschließlich der Populationsdynamik des Hauptwildschadensverursachers Schwarzwild ein. Am Nachmittag wird im Lehrrevier ein Praxisbespiel zur Berechnung und Wiederherstellung eines Wiesenschadens gezeigt. \nAnmeldeschluss:\n22.2.2019 \nTeilnehmerzahl:\nmax. 36 Personen \nDie Seminargebühren betragen für LJV-Mitglieder 40\,00 Euro und für Nichtmitglieder 70\,00 Euro. \nDie Gebühren sind nach Erhalt der Rechnung unter Angabe der Rechnungsnummer zu zahlen. \nEine Teilnahme kann nur gewährleistet werden\, wenn die Gebühren ordnungsgemäß 14 Tage vor Lehrgangsbeginn eingegangen sind. \nAnfragen bitte nur an: \nLJV-Geschäftsstelle\nTelefon: 06727 8944-0\nFax: 06727 8944-22\nE-Mail: info@ljv-rlp.de \nFür eventuelle Unterkunft und Verpflegung haben die Seminarteilnehmer selbst Sorge zu tragen. \nZeitplanänderungen vorbehalten!
URL:https://ljv-rlp.de/termin/wildschaden-feld-und-wiese-verhueten-erkennen-und-berechnen/
LOCATION:Landesjagdverband Rheinland-Pfalz e.V.\, Fasanerie 1\, Gensingen\, Rheinland-Pfalz\, 55457\, Deutschland
CATEGORIES:Seminare
ATTACH;FMTTYPE=image/jpeg:https://ljv-rlp.de/wp-content/uploads/2018/03/Qualität-der-Wiese.jpg
ORGANIZER;CN="Landsjagdverband Rheinland-Pfalz":MAILTO:info@ljv-rlp.de
GEO:49.8966084;7.9177049
X-APPLE-STRUCTURED-LOCATION;VALUE=URI;X-ADDRESS=Landesjagdverband Rheinland-Pfalz e.V. Fasanerie 1 Gensingen Rheinland-Pfalz 55457 Deutschland;X-APPLE-RADIUS=500;X-TITLE=Fasanerie 1:geo:7.9177049,49.8966084
END:VEVENT
BEGIN:VEVENT
DTSTART;TZID=Europe/Berlin:20190306T183000
DTEND;TZID=Europe/Berlin:20190306T220000
DTSTAMP:20260422T072331
CREATED:20181221T130054Z
LAST-MODIFIED:20190131T154704Z
UID:10001185-1551897000-1551909600@ljv-rlp.de
SUMMARY:Waffenkunde zur Vorbereitung auf die Jägerprüfung
DESCRIPTION:Abendseminar!\nZum Bestehen der Jägerprüfung ist der sichere Umgang mit Schusswaffen und Munition eine der wichtigsten Voraussetzungen. Am Seminarabend werden die gängigsten Waffen\, Verschlüsse sowie Munitionsarten erklärt und praktisch vorgeführt. Die Seminarteilnehmer können ausgiebig selbst alle Waffen vor Ort testen. Weiter wird auf die rechtlichen Grundlagen zur Aufbewahrung von Waffe und Munition besprochen. \nAnmeldeschluss:\n28.2.2019 \nTeilnehmerzahl:\nmax. 36 Personen \nDie Seminargebühren betragen für LJV-Mitglieder 40\,00 Euro und für Nichtmitglieder 70\,00 Euro. \nDie Gebühren sind nach Erhalt der Rechnung unter Angabe der Rechnungsnummer zu zahlen. \nEine Teilnahme kann nur gewährleistet werden\, wenn die Gebühren ordnungsgemäß 14 Tage vor Lehrgangsbeginn eingegangen sind. \nAnfragen bitte nur an: \nLJV-Geschäftsstelle\nTelefon: 06727 8944-0\nFax: 06727 8944-22\nE-Mail: info@ljv-rlp.de \nFür eventuelle Unterkunft und Verpflegung haben die Seminarteilnehmer selbst Sorge zu tragen. \nZeitplanänderungen vorbehalten!
URL:https://ljv-rlp.de/termin/waffenkunde-zur-vorbereitung-auf-die-jaegerpruefung/
LOCATION:Landesjagdverband Rheinland-Pfalz e.V.\, Fasanerie 1\, Gensingen\, Rheinland-Pfalz\, 55457\, Deutschland
CATEGORIES:Seminare
ATTACH;FMTTYPE=image/jpeg:https://ljv-rlp.de/wp-content/uploads/2018/12/Waffenkundezur-Vorbereitung-auf-die-Jägerprüfung.jpg
ORGANIZER;CN="Landsjagdverband Rheinland-Pfalz":MAILTO:info@ljv-rlp.de
GEO:49.8966084;7.9177049
X-APPLE-STRUCTURED-LOCATION;VALUE=URI;X-ADDRESS=Landesjagdverband Rheinland-Pfalz e.V. Fasanerie 1 Gensingen Rheinland-Pfalz 55457 Deutschland;X-APPLE-RADIUS=500;X-TITLE=Fasanerie 1:geo:7.9177049,49.8966084
END:VEVENT
BEGIN:VEVENT
DTSTART;TZID=Europe/Berlin:20190307T170000
DTEND;TZID=Europe/Berlin:20190307T230000
DTSTAMP:20260422T072331
CREATED:20190104T080613Z
LAST-MODIFIED:20190306T085554Z
UID:10001187-1551978000-1551999600@ljv-rlp.de
SUMMARY:Neu: Wildbesatzerfassung\, die Basisgrundlage der jagdlichen Nutzung!
DESCRIPTION:Dieses Abendseminar ist ausgebucht!\nDas Fundament der jagdlichen Nutzung ist die Datenerhebung der Wildbestände. Wie erfassen wir effektiv Schalenwildbestände als Grundlage für das Gespräch mit den Jagdgenossenschaften/Hegegemeinschaften zur Abschussvereinbarung/-planung. Darüber hinaus ist es ebenso wichtig\, dass die Niederwildbesätze in Rheinland Pfalz nach wissenschaftlichen Standards erfasst werden. Am Seminarabend werden verschiedene Methoden der Schalenwildzählung und Niederwildbesatzerfassung in Theorie und Praxis aufgezeigt. \nAnmeldeschluss:\n28.2.2019 \nTeilnehmerzahl:\nmax. 15 Personen \nDie Seminargebühren betragen für LJV-Mitglieder 40\,00 Euro und für Nichtmitglieder 70\,00 Euro. \nDie Gebühren sind nach Erhalt der Rechnung unter Angabe der Rechnungsnummer zu zahlen. \nEine Teilnahme kann nur gewährleistet werden\, wenn die Gebühren ordnungsgemäß 14 Tage vor Lehrgangsbeginn eingegangen sind. \nAnfragen bitte nur an: \nLJV-Geschäftsstelle\nTelefon: 06727 8944-0\nFax: 06727 8944-22\nE-Mail: info@ljv-rlp.de \nFür eventuelle Unterkunft und Verpflegung haben die Seminarteilnehmer selbst Sorge zu tragen. \nZeitplanänderungen vorbehalten!
URL:https://ljv-rlp.de/termin/neu-wildbesatzerfassung-die-basisgrundlage-der-jagdlichen-nutzung/
LOCATION:Landesjagdverband Rheinland-Pfalz e.V.\, Fasanerie 1\, Gensingen\, Rheinland-Pfalz\, 55457\, Deutschland
CATEGORIES:Seminare
ATTACH;FMTTYPE=image/jpeg:https://ljv-rlp.de/wp-content/uploads/2018/12/Zählung-Homepage-e1544521708413.jpg
ORGANIZER;CN="Landsjagdverband Rheinland-Pfalz":MAILTO:info@ljv-rlp.de
GEO:49.8966084;7.9177049
X-APPLE-STRUCTURED-LOCATION;VALUE=URI;X-ADDRESS=Landesjagdverband Rheinland-Pfalz e.V. Fasanerie 1 Gensingen Rheinland-Pfalz 55457 Deutschland;X-APPLE-RADIUS=500;X-TITLE=Fasanerie 1:geo:7.9177049,49.8966084
END:VEVENT
BEGIN:VEVENT
DTSTART;TZID=Europe/Berlin:20190308T180000
DTEND;TZID=Europe/Berlin:20190308T210000
DTSTAMP:20260422T072331
CREATED:20190205T140505Z
LAST-MODIFIED:20190307T082715Z
UID:10001189-1552068000-1552078800@ljv-rlp.de
SUMMARY:FAJ Pirmasens-Zweibrücken: Stammtisch mit Seminar "Erste Hilfe am Hund"
DESCRIPTION:Am 8. März findet im Jägerheim Fumbach der FAJ-Stammtisch mit dem Seminar “Erste Hilfe am Hund”. Referent ist Hartmut Zimmermann. Treffpunkt ist ab 18:00 Uhr\, Vortragsbeginn um 19:00 Uhr. Die Teilnahmegebühr beträgt 5\,- Euro/Preson. Verbindliche Anmeldung bei Sandra Bohrer oder bei Wirtin Nerka (Tel. 0173 4128515).
URL:https://ljv-rlp.de/termin/faj-stammtisch-mit-seminar-erste-hilfe-am-hund/
LOCATION:Fumbach\, Fumbach\, 66953 Pirmasens\, Rheinland-Pfalz\, 66953\, Deutschland
CATEGORIES:FAJ Termine
GEO:49.2152781;7.644159
X-APPLE-STRUCTURED-LOCATION;VALUE=URI;X-ADDRESS=Fumbach Fumbach 66953 Pirmasens Rheinland-Pfalz 66953 Deutschland;X-APPLE-RADIUS=500;X-TITLE=Fumbach:geo:7.644159,49.2152781
END:VEVENT
BEGIN:VEVENT
DTSTART;TZID=Europe/Berlin:20190309T090000
DTEND;TZID=Europe/Berlin:20190309T120000
DTSTAMP:20260422T072331
CREATED:20190220T082442Z
LAST-MODIFIED:20190220T082442Z
UID:10001300-1552122000-1552132800@ljv-rlp.de
SUMMARY:FAJ Alzey-Worms: Schrotschießen für Jägerinnen
DESCRIPTION:Der FAJ Alzey-Worms bieten auf dem Wurfscheibenstand der Kreisgruppe Alzey-Worms\, Anlage Neuhof ein monatliches Übungsschießen (Schrot) nur für Frauen an. Von 9.00 bis 12.00 Uhr können Damen\, auch unter professioneller Anleitung\, Rollhasen\, Skeet\, Trap oder Jagdparcours schießen. Interessierte Frauen ohne Jagdschein können\, nach Abschluss einer Versicherung\, ebenfalls mit schießen. \nAnmeldungen  \nHeike Hitzke\nTelefon: 0172 7178993\nE-Mail: h.hitzke@online.de \nRückfragen bei \nAnnette Schultheiß\nTelefon: 0171 6034018
URL:https://ljv-rlp.de/termin/faj-alzey-worms-schrotschiessen-fuer-jaegerinnen/
LOCATION:Ralingen\, Ralingen\, Rheinland-Pfalz\, Deutschland
CATEGORIES:FAJ Termine
GEO:49.6689096;7.9533002
END:VEVENT
BEGIN:VEVENT
DTSTART;VALUE=DATE:20190320
DTEND;VALUE=DATE:20190323
DTSTAMP:20260422T072331
CREATED:20181221T130029Z
LAST-MODIFIED:20190306T085250Z
UID:10001181-1553040000-1553299199@ljv-rlp.de
SUMMARY:Intensivlehrgänge für Jagdscheinanwärter (3 Tage)
DESCRIPTION:Dieser Lehrgang ist ausgebucht!\nDie Kurzlehrgänge werden insbesondere für Jagdscheinanwärter angeboten\, die Ihre Ausbildung in der traditionellen Form (mit sog. „Lehrjahr“) absolvieren. Wildmeister Christoph Hildebrandt erörtert an den drei Seminartagen alle Prüfungsfächer und bereitet die angehenden Jäger/innen auf eine gute Prüfung und das spätere Jägerleben vor. \nAnmeldeschluss: zwei Wochen vor Lehrgangsbeginn \nTermine:\nTäglich von 9:00 bis ca. 17:00 Uhr \nTeilnehmerzahl:\nmax. 36 Personen \nDer Lehrgang geht über 3 Tage und kostet für LJV-Mitglieder 95\,00 Euro und für Nichtmitglieder 150\,00 Euro. \nDie Gebühren sind nach Erhalt der Rechnung unter Angabe der Rechnungsnummer zu zahlen. \nEine Teilnahme kann nur gewährleistet werden\, wenn die Gebühren ordnungsgemäß 14 Tage vor Lehrgangsbeginn eingegangen sind. \nAnfragen bitte nur an: \nLJV-Geschäftsstelle\nTelefon: 06727 8944-0\nFax: 06727 8944-22\nE-Mail: info@ljv-rlp.de \nFür eventuelle Unterkunft und Verpflegung haben die Seminarteilnehmer selbst Sorge zu tragen. \nZeitplanänderungen vorbehalten!
URL:https://ljv-rlp.de/termin/intensivlehrgaenge-fuer-jagdscheinanwaerter-3-tage-4/
LOCATION:Landesjagdverband Rheinland-Pfalz e.V.\, Fasanerie 1\, Gensingen\, Rheinland-Pfalz\, 55457\, Deutschland
CATEGORIES:Seminare
ATTACH;FMTTYPE=image/jpeg:https://ljv-rlp.de/wp-content/uploads/2018/04/Jagdscheinanwarter_klein.jpg
ORGANIZER;CN="Landsjagdverband Rheinland-Pfalz":MAILTO:info@ljv-rlp.de
GEO:49.8966084;7.9177049
X-APPLE-STRUCTURED-LOCATION;VALUE=URI;X-ADDRESS=Landesjagdverband Rheinland-Pfalz e.V. Fasanerie 1 Gensingen Rheinland-Pfalz 55457 Deutschland;X-APPLE-RADIUS=500;X-TITLE=Fasanerie 1:geo:7.9177049,49.8966084
END:VEVENT
BEGIN:VEVENT
DTSTART;TZID=Europe/Berlin:20190321T183000
DTEND;TZID=Europe/Berlin:20190321T183000
DTSTAMP:20260422T072331
CREATED:20190313T101023Z
LAST-MODIFIED:20190313T122030Z
UID:10001307-1553193000-1553193000@ljv-rlp.de
SUMMARY:Junge Jäger Ahrweiler: Stammtisch
DESCRIPTION:Stammtisch der Jungen Jäger. Es kommt Sarah Wirtz und referiert über das Wildschutzprogramm Feld & Wiese. \nTreffpunkt ist um 18.30 Uhr im Meet & More\, Grafschaft-Vettelhoven \nAlle interessierten Jägerinnen und Jäger sind  willkommen. \nAnsprechpartner: \nBirgit Groß\nObfrau für Junge Jäger\nTelefon: 0151 40071483\nE-Mail: gross.birgit@t-online.de \nLars Henscheid\nStellv. Obmann für Junge Jäger\nTelefon: 0177 9560532\nE-Mail: lars.henscheid@gmx.de
URL:https://ljv-rlp.de/termin/junge-jaeger-ahrweiler-stammtisch/
LOCATION:Meet & More\, Mittelstraße 12\, Grafschaft-Vettelhoven\, Rheinland-Pfalz\, 53501\, Deutschland
CATEGORIES:Junge Jäger Termine
GEO:50.5716121;7.056358
X-APPLE-STRUCTURED-LOCATION;VALUE=URI;X-ADDRESS=Meet & More Mittelstraße 12 Grafschaft-Vettelhoven Rheinland-Pfalz 53501 Deutschland;X-APPLE-RADIUS=500;X-TITLE=Mittelstraße 12:geo:7.056358,50.5716121
END:VEVENT
BEGIN:VEVENT
DTSTART;TZID=Europe/Berlin:20190323T093000
DTEND;TZID=Europe/Berlin:20190323T163000
DTSTAMP:20260422T072331
CREATED:20181221T130001Z
LAST-MODIFIED:20190311T095731Z
UID:10001298-1553333400-1553358600@ljv-rlp.de
SUMMARY:Mentorenseminar (WFW): Niederwildhege in Rheinland-Pfalz am Beispiel des Wildschutzprogramm Feld & Wiese
DESCRIPTION:Dieses Seminar ist ausgebucht!\nDieses Seminar soll dazu dienen\, die rheinland-pfälzischen Mentoren und Mitglieder der Jägerprüfungskommissionen umfassend über die Ziele und Maßnahmen des Wildschutzprogramm Feld & Wiese (WFW) zu informieren\, damit sie dieses Wissen aktiv in die Ausbildung und Prüfung der Jungjäger integrieren können. Die drei Säulen des Programms\, Wildtiermonitoring\, Lebensraumverbesserung und Prädatorenmanagement werden im Rahmen dieses Seminars umfassend erläutert. Die Seminarleiter werden Strategien präsentieren\, wie es gelingen kann\, die Kommunikation zwischen Landwirtschaft und Jägerschaft – unter Beachtung agrarpolitischer Regelungen – im Sinne der Niederwildhege zu stärken. Im Rahmen einer anschließenden Exkursion in eines der WFW-Demoreviere demonstrieren die Seminarleiter die praktische Umsetzung der verschiedenen Maßnahmen. \nAnmeldeschluss:\n15.3.2019 \nTeilnehmerzahl:\nmax. 36 Personen \nReferenten:\nM.Sc. Biogeographie S. Wirtz und Rjm C. Lintow \nOrt:\nLandesjagdschule und WFW-Demorevier \nGebühr: LJV RLP Mentoren und Prüfer kostenfrei! \nDie Seminargebühren betragen für LJV-Mitglieder 40\,00 Euro und für Nichtmitglieder 70\,00 Euro. \nDie Gebühren sind nach Erhalt der Rechnung unter Angabe der Rechnungsnummer zu zahlen. \nEine Teilnahme kann nur gewährleistet werden\, wenn die Gebühren ordnungsgemäß 14 Tage vor Lehrgangsbeginn eingegangen sind. \nAnfragen bitte nur an: \nLJV-Geschäftsstelle\nTelefon: 06727 8944-0\nFax: 06727 8944-22\nE-Mail: info@ljv-rlp.de \nFür eventuelle Unterkunft und Verpflegung haben die Seminarteilnehmer selbst Sorge zu tragen. \nZeitplanänderungen vorbehalten!
URL:https://ljv-rlp.de/termin/mentorenseminar-wfw-niederwildhege-in-rheinland-pfalz-am-beispiel-des-wildschutzprogramm-feld-wiese/
LOCATION:Landesjagdverband Rheinland-Pfalz e.V.\, Fasanerie 1\, Gensingen\, Rheinland-Pfalz\, 55457\, Deutschland
CATEGORIES:Seminare
ATTACH;FMTTYPE=image/jpeg:https://ljv-rlp.de/wp-content/uploads/2018/12/Logo-WFW_Seminare.jpg
ORGANIZER;CN="Landsjagdverband Rheinland-Pfalz":MAILTO:info@ljv-rlp.de
GEO:49.8966084;7.9177049
X-APPLE-STRUCTURED-LOCATION;VALUE=URI;X-ADDRESS=Landesjagdverband Rheinland-Pfalz e.V. Fasanerie 1 Gensingen Rheinland-Pfalz 55457 Deutschland;X-APPLE-RADIUS=500;X-TITLE=Fasanerie 1:geo:7.9177049,49.8966084
END:VEVENT
BEGIN:VEVENT
DTSTART;TZID=Europe/Berlin:20190330T000000
DTEND;TZID=Europe/Berlin:20190330T000000
DTSTAMP:20260422T072331
CREATED:20190313T101347Z
LAST-MODIFIED:20190313T122356Z
UID:10001308-1553904000-1553904000@ljv-rlp.de
SUMMARY:Junge Jäger Ahrweiler: Anschussseminar
DESCRIPTION:Das Anschußseminar mit dem Schweißhundeführer Jan Horn ist leider schon ausgebucht. \nAnsprechpartner: \nBirgit Groß\nObfrau für Junge Jäger\nTelefon: 0151 40071483\nE-Mail: gross.birgit@t-online.de \nLars Henscheid\nStellv. Obmann für Junge Jäger\nTelefon: 0177 9560532\nE-Mail: lars.henscheid@gmx.de
URL:https://ljv-rlp.de/termin/junge-jaeger-ahrweiler-anschussseminar/
LOCATION:Hubertushütte\, Bad Neuenahr-Heimersheim\, Rheinland-Pfalz\, 53574\, Deutschland
CATEGORIES:Junge Jäger Termine
GEO:50.5427949;7.1767611
END:VEVENT
BEGIN:VEVENT
DTSTART;TZID=Europe/Berlin:20190330T090000
DTEND;TZID=Europe/Berlin:20190330T160000
DTSTAMP:20260422T072331
CREATED:20181221T130038Z
LAST-MODIFIED:20190308T131916Z
UID:10001183-1553936400-1553961600@ljv-rlp.de
SUMMARY:Ein Jagdhundewelpe kommt ins Haus
DESCRIPTION:Dieses Seminar ist ausgebucht!\nDer erfahrene Hundeführer und -ausbilder Uwe Tabel erläutert sinnvolle Möglichkeiten der Welpen- und Junghundeerziehung als Vorbereitung auf die jagdliche Praxis und als Grundlage für eine dauerhaft vertrauensvolle Beziehung zwischen Mensch und Hund. Ebenso geht er auf die verantwortungsvolle Aufgabe der Züchter ein\, und erläutert die Möglichkeiten der Auswahl des Jagdgefährten für den individuellen Einsatz im Revier. \nKonkrete Beispiele mit praktischen Demonstrationen im Lehrrevier zeigen\, wie aus jedem entsprechend veranlagtem Hund ein qualifizierter und unentbehrlicher Helfer bei der Jagd werden kann. Für die praktischen Übungen können max. 20 Welpen zugelassen werden. \nAnmeldeschluss:\n22.3.2019 \nReferenten:\nUwe Tabel und Christoph Hildebrandt \nTeilnehmerzahl:\nmax. 36 Personen\n max. 20 Welpen \nDie Seminargebühren betragen für LJV-Mitglieder 40\,00 Euro und für Nichtmitglieder 70\,00 Euro. \nDie Gebühren sind nach Erhalt der Rechnung unter Angabe der Rechnungsnummer zu zahlen. \nEine Teilnahme kann nur gewährleistet werden\, wenn die Gebühren ordnungsgemäß 14 Tage vor Lehrgangsbeginn eingegangen sind. \nAnfragen bitte nur an: \nLJV-Geschäftsstelle\nTelefon: 06727 8944-0\nFax: 06727 8944-22\nE-Mail: info@ljv-rlp.de \nFür eventuelle Unterkunft und Verpflegung haben die Seminarteilnehmer selbst Sorge zu tragen. \nZeitplanänderungen vorbehalten!
URL:https://ljv-rlp.de/termin/ein-jagdhundewelpe-kommt-ins-haus-2/
LOCATION:Landesjagdverband Rheinland-Pfalz e.V.\, Fasanerie 1\, Gensingen\, Rheinland-Pfalz\, 55457\, Deutschland
CATEGORIES:Seminare
ATTACH;FMTTYPE=image/jpeg:https://ljv-rlp.de/wp-content/uploads/2018/04/Ein-Welpe-kommt-ins-Haus_3_klein.jpg
ORGANIZER;CN="Landsjagdverband Rheinland-Pfalz":MAILTO:info@ljv-rlp.de
GEO:49.8966084;7.9177049
X-APPLE-STRUCTURED-LOCATION;VALUE=URI;X-ADDRESS=Landesjagdverband Rheinland-Pfalz e.V. Fasanerie 1 Gensingen Rheinland-Pfalz 55457 Deutschland;X-APPLE-RADIUS=500;X-TITLE=Fasanerie 1:geo:7.9177049,49.8966084
END:VEVENT
END:VCALENDAR