BEGIN:VCALENDAR
VERSION:2.0
PRODID:-//Landesjagdverband Rheinland-Pfalz e.V. - ECPv6.10.2//NONSGML v1.0//EN
CALSCALE:GREGORIAN
METHOD:PUBLISH
X-ORIGINAL-URL:https://ljv-rlp.de
X-WR-CALDESC:Veranstaltungen für Landesjagdverband Rheinland-Pfalz e.V.
REFRESH-INTERVAL;VALUE=DURATION:PT1H
X-Robots-Tag:noindex
X-PUBLISHED-TTL:PT1H
BEGIN:VTIMEZONE
TZID:Europe/Berlin
BEGIN:DAYLIGHT
TZOFFSETFROM:+0100
TZOFFSETTO:+0200
TZNAME:CEST
DTSTART:20180325T010000
END:DAYLIGHT
BEGIN:STANDARD
TZOFFSETFROM:+0200
TZOFFSETTO:+0100
TZNAME:CET
DTSTART:20181028T010000
END:STANDARD
END:VTIMEZONE
BEGIN:VEVENT
DTSTART;TZID=Europe/Berlin:20181107T180000
DTEND;TZID=Europe/Berlin:20181107T220000
DTSTAMP:20260422T141120
CREATED:20180404T080448Z
LAST-MODIFIED:20221219T085701Z
UID:10001259-1541613600-1541628000@ljv-rlp.de
SUMMARY:Aus der Truhe in die Pfanne
DESCRIPTION:Dieses Seminar ist ausgebucht. Teilnahme nur noch über Warteliste möglich. Bitte nehmen Sie hierzu telefonisch Kontakt mit uns auf (06727 8944-0).\nZielgruppe dieses Seminar sind Hausfrauen und Hausmänner die wenig Zeit zum Kochen haben aber dennoch gerne auf die Qualität von heimischem Wildbret zurückgreifen möchten. Am Seminarabend werden die Teilnehmer diverse Fleischpartien (Keulen\, Blätter usw.) in koch- bzw. bratenfertige Teile zerwirken\, anschließend zu diversen Leckereien verarbeiten und selbstverständlich auch verkosten. \nTeilnehmerzahl:\nmax. 20 Personen \nDie Seminargebühren betragen für LJV-Mitglieder 70\,00 Euro und für Nichtmitglieder 120\,00 Euro. \nDie Gebühren sind nach Erhalt der Rechnung unter Angabe der Rechnungsnummer zu zahlen. \nEine Teilnahme kann nur gewährleistet werden\, wenn die Gebühren ordnungsgemäß 14 Tage vor Lehrgangsbeginn eingegangen sind. \nAnfragen bitte nur an: \nLJV-Geschäftsstelle\nTelefon: 06727 8944-0\nFax: 06727 8944-22\nE-Mail: info@ljv-rlp.de \nFür eventuelle Unterkunft und Verpflegung haben die Seminarteilnehmer selbst Sorge zu tragen. \nZeitplanänderungen vorbehalten!
URL:https://ljv-rlp.de/termin/lehrgangsanmeldung-aus-der-truhe-in-die-pfanne/
LOCATION:Landesjagdverband Rheinland-Pfalz e.V.\, Fasanerie 1\, Gensingen\, Rheinland-Pfalz\, 55457\, Deutschland
CATEGORIES:Seminare
GEO:49.8966084;7.9177049
X-APPLE-STRUCTURED-LOCATION;VALUE=URI;X-ADDRESS=Landesjagdverband Rheinland-Pfalz e.V. Fasanerie 1 Gensingen Rheinland-Pfalz 55457 Deutschland;X-APPLE-RADIUS=500;X-TITLE=Fasanerie 1:geo:7.9177049,49.8966084
END:VEVENT
BEGIN:VEVENT
DTSTART;VALUE=DATE:20181115
DTEND;VALUE=DATE:20181117
DTSTAMP:20260422T141120
CREATED:20181016T143800Z
LAST-MODIFIED:20221219T085658Z
UID:10001283-1542240000-1542412799@ljv-rlp.de
SUMMARY:Arbeitstagung der Kreisgruppenvorsitzenden
DESCRIPTION:
URL:https://ljv-rlp.de/termin/arbeitstagung-der-kreisgruppenvorsitzenden/
LOCATION:Landesjagdverband Rheinland-Pfalz e.V.\, Fasanerie 1\, Gensingen\, Rheinland-Pfalz\, 55457\, Deutschland
CATEGORIES:Seminare
GEO:49.8966084;7.9177049
X-APPLE-STRUCTURED-LOCATION;VALUE=URI;X-ADDRESS=Landesjagdverband Rheinland-Pfalz e.V. Fasanerie 1 Gensingen Rheinland-Pfalz 55457 Deutschland;X-APPLE-RADIUS=500;X-TITLE=Fasanerie 1:geo:7.9177049,49.8966084
END:VEVENT
END:VCALENDAR