BEGIN:VCALENDAR
VERSION:2.0
PRODID:-//Landesjagdverband Rheinland-Pfalz e.V. - ECPv6.10.2//NONSGML v1.0//EN
CALSCALE:GREGORIAN
METHOD:PUBLISH
X-ORIGINAL-URL:https://ljv-rlp.de
X-WR-CALDESC:Veranstaltungen für Landesjagdverband Rheinland-Pfalz e.V.
REFRESH-INTERVAL;VALUE=DURATION:PT1H
X-Robots-Tag:noindex
X-PUBLISHED-TTL:PT1H
BEGIN:VTIMEZONE
TZID:Europe/Berlin
BEGIN:DAYLIGHT
TZOFFSETFROM:+0100
TZOFFSETTO:+0200
TZNAME:CEST
DTSTART:20180325T010000
END:DAYLIGHT
BEGIN:STANDARD
TZOFFSETFROM:+0200
TZOFFSETTO:+0100
TZNAME:CET
DTSTART:20181028T010000
END:STANDARD
END:VTIMEZONE
BEGIN:VEVENT
DTSTART;TZID=Europe/Berlin:20180804T090000
DTEND;TZID=Europe/Berlin:20180804T170000
DTSTAMP:20260422T190737
CREATED:20180405T114100Z
LAST-MODIFIED:20190131T154705Z
UID:10001262-1533373200-1533402000@ljv-rlp.de
SUMMARY:Lockjagd auf Gänse mit Schießen aus der Gänseliege im Jagdparcours
DESCRIPTION:Die Gänsepopulation hat sich in Rheinland Pfalz etabliert und wächst ständig; dies führt nicht nur in der Landwirtschaft zunehmend zu Problemen. Gleichzeitig werden Gänse aus jagdlicher Sicht nach wie vor unternutzt. Doch wie\, wo\, welche\, Arten zu erlegen sind\, bedarf einer genauen Planung und gemeinsamen Durchführung. Am Seminartag werden nicht nur theoretische Tipps gegeben\, sondern auch anschaulich das notwendige Lockequipment vorgeführt (u.a. Gänseliegen). Eine besondere Herausforderung bei der Gänsebejagung ist es\, sich möglichst schnell aus der Gänseliege schussbereit zu machen. Dies wird auf dem Jagdparcoursstand im Neuhof (bei Kirchheimbolanden) geübt. Des Weiteren bekommen die Teilnehmer am Seminartag das Wurfscheibenschießen unter Anleitung eines erfahrenen Schützen näher gebracht. Flinten und Munition sind von den Seminarteilnehmern selbst mit zu bringen. \nTeilnehmerzahl:\nmax. 20 Personen \nDie Seminargebühren betragen für LJV-Mitglieder 60\,00 Euro und für Nichtmitglieder 100\,00 Euro (incl. drei Runden Jagdparcoursschießen á 10 Tauben und ein Mittagessen). \nDie Gebühren sind nach Erhalt der Rechnung unter Angabe der Rechnungsnummer zu zahlen. \nEine Teilnahme kann nur gewährleistet werden\, wenn die Gebühren ordnungsgemäß 14 Tage vor Lehrgangsbeginn eingegangen sind. \nAnfragen bitte nur an: \nLJV-Geschäftsstelle\nTelefon: 06727 8944-0\nFax: 06727 8944-22\nE-Mail: info@ljv-rlp.de \nFür eventuelle Unterkunft und Verpflegung haben die Seminarteilnehmer selbst Sorge zu tragen. \nZeitplanänderungen vorbehalten!
URL:https://ljv-rlp.de/termin/lockjagd-auf-gaense-mit-schiessen-aus-der-gaenseliege-im-jagdparcours/
LOCATION:Landesjagdverband Rheinland-Pfalz e.V.\, Fasanerie 1\, Gensingen\, Rheinland-Pfalz\, 55457\, Deutschland
CATEGORIES:Seminare
ATTACH;FMTTYPE=image/jpeg:https://ljv-rlp.de/wp-content/uploads/2018/04/Lockjagd-auf-Ganse-mit-Ubungsschiessen-auf-dem-Parcour.jpg
GEO:49.8966084;7.9177049
X-APPLE-STRUCTURED-LOCATION;VALUE=URI;X-ADDRESS=Landesjagdverband Rheinland-Pfalz e.V. Fasanerie 1 Gensingen Rheinland-Pfalz 55457 Deutschland;X-APPLE-RADIUS=500;X-TITLE=Fasanerie 1:geo:7.9177049,49.8966084
END:VEVENT
BEGIN:VEVENT
DTSTART;TZID=Europe/Berlin:20180810T190000
DTEND;TZID=Europe/Berlin:20180810T213000
DTSTAMP:20260422T190737
CREATED:20180621T090241Z
LAST-MODIFIED:20190131T154705Z
UID:10001279-1533927600-1533936600@ljv-rlp.de
SUMMARY:Regionalkonferenz in der Region Eifel zur Afrikanischen Schweinepest bei Wildschweinen
DESCRIPTION:Die fortschreitende Ausbreitung der Afrikanischen Schweinepest (ASP) in Nord- und Osteuropa wird insbesondere von Schweinehaltern und angegliederten Wirtschaftszweigen\, Jägern\, Tierärzten sowie der Veterinär- und Jagdverwaltung mit großer Sorge betrachtet. Um Sie über den aktuellen Stand\, die Präventionsmaßnahmen zur ASP sowie über jagdliche Möglichkeiten und wildbiologische Zusammenhänge zu informieren und zu diskutieren lädt das Ministerium für Umwelt\, Energie\, Ernährung und Forsten zu vier Regionalkonferenzen ein. \nProgramm\n19.00 Uhr: Begrüßung und Einführung durch Frau Ministerin Ulrike Höfken \n19:15 Uhr: Afrikanische Schweinepest – warum ist sie so tückisch? Was kann ich als Jäger tun? Und was passiert im Falle eines Ausbruchs? (Dr. Julia Blicke\, Oberste Veterinärbehörde RLP) \n19:40 Uhr: Die Biologie des Schwarzwildes (Dr. Ulf Hohmann\, Forschungsanstalt für Waldökologie und Forstwirtschaft RLP) \n20:05 Uhr: Jagdstreckenentwicklung des Schwarzwildes in Rheinland-Pfalz und jagdliche Möglichkeiten der Reduktion (Reinhold Rosenbach\, Oberste Jagdbehörde RLP) \n20:30 Uhr: Austausch und Diskussion zur Klärung regionaler Fragen \n21:30 Uhr: Ende der Veranstaltung \nModeration: Kerstin Ramm\, Ministerium für Umwelt\, Energie\, Ernährung und Forsten
URL:https://ljv-rlp.de/termin/regionalkonferenz-in-der-region-eifel-zu-afrikanische-schweinepest-bei-wildschweinen/
LOCATION:Gäste- und Veranstaltungszentrum FORUM DAUN\, Leopoldstraße 5\, Daun\, Rheinland-Pfalz\, 54550\, Deutschland
CATEGORIES:Seminare
GEO:50.1981713;6.8301167
X-APPLE-STRUCTURED-LOCATION;VALUE=URI;X-ADDRESS=Gäste- und Veranstaltungszentrum FORUM DAUN Leopoldstraße 5 Daun Rheinland-Pfalz 54550 Deutschland;X-APPLE-RADIUS=500;X-TITLE=Leopoldstraße 5:geo:6.8301167,50.1981713
END:VEVENT
BEGIN:VEVENT
DTSTART;TZID=Europe/Berlin:20180823T190000
DTEND;TZID=Europe/Berlin:20180823T213000
DTSTAMP:20260422T190737
CREATED:20180712T094416Z
LAST-MODIFIED:20190131T154705Z
UID:10001282-1535050800-1535059800@ljv-rlp.de
SUMMARY:Regionalkonferenz in der Region Hunsrück zur Afrikanischen Schweinepest bei Wildschweinen
DESCRIPTION:Die fortschreitende Ausbreitung der Afrikanischen Schweinepest (ASP) in Nord- und Osteuropa wird insbesondere von Schweinehaltern und angegliederten Wirtschaftszweigen\, Jägern\, Tierärzten sowie der Veterinär- und Jagdverwaltung mit großer Sorge betrachtet. Um Sie über den aktuellen Stand\, die Präventionsmaßnahmen zur ASP sowie über jagdliche Möglichkeiten und wildbiologische Zusammenhänge zu informieren und zu diskutieren lädt das Ministerium für Umwelt\, Energie\, Ernährung und Forsten zu vier Regionalkonferenzen ein. \nProgramm\n19:00 Uhr \nBegrüßung und Einführung \nAfrikanische Schweinepest – warum ist sie so tückisch? Was kann ich als Jäger tun? Und was passiert im Falle eines Ausbruchs? (Oberste Veterinärbehörde RLP) \nDie Biologie des Schwarzwildes (Forschungsanstalt für Waldökologie und Forstwirtschaft RLP) \nJagdstreckenentwicklung des Schwarzwildes in Rheinland-Pfalz und jagdliche Möglichkeiten der Reduktion (Oberste Jagdbehörde RLP) \nAustausch und Diskussion zur Klärung regionaler Fragen \n21:30 Uhr: Ende der Veranstaltung
URL:https://ljv-rlp.de/termin/regionalkonferenz-in-der-region-hunsrueck-zur-afrikanischen-schweinepest-bei-wildschweinen/
LOCATION:Aula der Hochschule der Polizei Rheinland-Pfalz\, Landespolizeischule\, Büchenbeuren (Ortsteil Scheid)\, Rheinland-Pfalz\, 55491\, Deutschland
CATEGORIES:Seminare
GEO:49.9259868;7.2522158
X-APPLE-STRUCTURED-LOCATION;VALUE=URI;X-ADDRESS=Aula der Hochschule der Polizei Rheinland-Pfalz Landespolizeischule Büchenbeuren (Ortsteil Scheid) Rheinland-Pfalz 55491 Deutschland;X-APPLE-RADIUS=500;X-TITLE=Landespolizeischule:geo:7.2522158,49.9259868
END:VEVENT
BEGIN:VEVENT
DTSTART;TZID=Europe/Berlin:20180829T190000
DTEND;TZID=Europe/Berlin:20180829T213000
DTSTAMP:20260422T190737
CREATED:20180621T092529Z
LAST-MODIFIED:20190131T154705Z
UID:10001280-1535569200-1535578200@ljv-rlp.de
SUMMARY:Regionalkonferenz in der Region Pfalz zur Afrikanischen Schweinepest bei Wildschweinen
DESCRIPTION:Die fortschreitende Ausbreitung der Afrikanischen Schweinepest (ASP) in Nord- und Osteuropa wird insbesondere von Schweinehaltern und angegliederten Wirtschaftszweigen\, Jägern\, Tierärzten sowie der Veterinär- und Jagdverwaltung mit großer Sorge betrachtet. Um Sie über den aktuellen Stand\, die Präventionsmaßnahmen zur ASP sowie über jagdliche Möglichkeiten und wildbiologische Zusammenhänge zu informieren und zu diskutieren lädt das Ministerium für Umwelt\, Energie\, Ernährung und Forsten zu vier Regionalkonferenzen ein. \nProgramm\n19:00 Uhr Begrüßung und Einführung \nAfrikanische Schweinepest – warum ist sie so tückisch? Was kann ich als Jäger tun? Und was passiert im Falle eines Ausbruchs? (Oberste Veterinärbehörde RLP) \nDie Biologie des Schwarzwildes (Forschungsanstalt für Waldökologie und Forstwirtschaft RLP) \nJagdstreckenentwicklung des Schwarzwildes in Rheinland-Pfalz und jagdliche Möglichkeiten der Reduktion (Oberste Jagdbehörde RLP) \nAustausch und Diskussion zur Klärung regionaler Fragen \n21:30 Uhr: Ende der Veranstaltung
URL:https://ljv-rlp.de/termin/regionalkonferenz-in-der-region-pfalz-zu-afrikanische-schweinepest-bei-wildschweinen/
LOCATION:Stadthalle Landstuhl\, Kaiserstraße 39\, Landstuhl\, Rheinland-Pfalz\, 66849\, Deutschland
CATEGORIES:Seminare
GEO:49.4122549;7.5696205
X-APPLE-STRUCTURED-LOCATION;VALUE=URI;X-ADDRESS=Stadthalle Landstuhl Kaiserstraße 39 Landstuhl Rheinland-Pfalz 66849 Deutschland;X-APPLE-RADIUS=500;X-TITLE=Kaiserstraße 39:geo:7.5696205,49.4122549
END:VEVENT
END:VCALENDAR