BEGIN:VCALENDAR
VERSION:2.0
PRODID:-//Landesjagdverband Rheinland-Pfalz e.V. - ECPv6.10.2//NONSGML v1.0//EN
CALSCALE:GREGORIAN
METHOD:PUBLISH
X-WR-CALNAME:Landesjagdverband Rheinland-Pfalz e.V.
X-ORIGINAL-URL:https://ljv-rlp.de
X-WR-CALDESC:Veranstaltungen für Landesjagdverband Rheinland-Pfalz e.V.
REFRESH-INTERVAL;VALUE=DURATION:PT1H
X-Robots-Tag:noindex
X-PUBLISHED-TTL:PT1H
BEGIN:VTIMEZONE
TZID:Europe/Berlin
BEGIN:DAYLIGHT
TZOFFSETFROM:+0100
TZOFFSETTO:+0200
TZNAME:CEST
DTSTART:20180325T010000
END:DAYLIGHT
BEGIN:STANDARD
TZOFFSETFROM:+0200
TZOFFSETTO:+0100
TZNAME:CET
DTSTART:20181028T010000
END:STANDARD
END:VTIMEZONE
BEGIN:VEVENT
DTSTART;VALUE=DATE:20180601
DTEND;VALUE=DATE:20180604
DTSTAMP:20260422T220443
CREATED:20180315T094320Z
LAST-MODIFIED:20190131T154705Z
UID:10001256-1527811200-1528070399@ljv-rlp.de
SUMMARY:Rheinland-Pfalz-Tag in Worms
DESCRIPTION:
URL:https://ljv-rlp.de/termin/rheinland-pfalz-tag-in-worms/
CATEGORIES:Seminare
END:VEVENT
BEGIN:VEVENT
DTSTART;VALUE=DATE:20180608
DTEND;VALUE=DATE:20180611
DTSTAMP:20260422T220443
CREATED:20180409T133327Z
LAST-MODIFIED:20190131T154705Z
UID:10001275-1528416000-1528675199@ljv-rlp.de
SUMMARY:Spezial – Vorbereitungskurs für Jagdaufseher
DESCRIPTION:Ziel dieser Seminare ist es\, die angehenden Jagdaufseher/innen noch besser auf ihre Aufgabengebiete und die Prüfung vorzubereiten. Nicht nur Jäger die sich auf die o.g. Befähigungsprüfung vorbereiten möchten sind herzlich eingeladen\, sondern auch Jagdaufseher die ihr Wissen auffrischen wollen. In den drei Seminartagen werden die Themengebiete Wildschaden\, Lockjagd\, Biotopverbesserungen in Feld und Wald\, Planung und Durchführung von Einzel und Gesellschaftsjagden\, Vermarktung von Wildbret\, Wildbestandserfassung und Abschussplanung im Lehrsaal sowie im Lehrrevier unterrichtet. \nTeilnehmerzahl:\nmax. 36 Personen \nDer Vorbereitungskurs geht über 3 Tage und kostet für LJV-Mitglieder 100\,00 Euro und für Nichtmitglieder 150\,00 Euro. \nDie Gebühren sind nach Erhalt der Rechnung unter Angabe der Rechnungsnummer zu zahlen. \nEine Teilnahme kann nur gewährleistet werden\, wenn die Gebühren ordnungsgemäß 14 Tage vor Lehrgangsbeginn eingegangen sind. \nAnfragen bitte nur an: \nLJV-Geschäftsstelle\nTelefon: 06727 8944-0\nFax: 06727 8944-22\nE-Mail: info@ljv-rlp.de \nFür eventuelle Unterkunft und Verpflegung haben die Seminarteilnehmer selbst Sorge zu tragen. \nZeitplanänderungen vorbehalten!
URL:https://ljv-rlp.de/termin/spezial-vorbereitungskurs-fuer-jagdaufseher/
LOCATION:Landesjagdverband Rheinland-Pfalz e.V.\, Fasanerie 1\, Gensingen\, Rheinland-Pfalz\, 55457\, Deutschland
CATEGORIES:Seminare
ATTACH;FMTTYPE=image/jpeg:https://ljv-rlp.de/wp-content/uploads/2018/04/Jagdaufseher_klein.jpg
GEO:49.8966084;7.9177049
X-APPLE-STRUCTURED-LOCATION;VALUE=URI;X-ADDRESS=Landesjagdverband Rheinland-Pfalz e.V. Fasanerie 1 Gensingen Rheinland-Pfalz 55457 Deutschland;X-APPLE-RADIUS=500;X-TITLE=Fasanerie 1:geo:7.9177049,49.8966084
END:VEVENT
BEGIN:VEVENT
DTSTART;TZID=Europe/Berlin:20180616T090000
DTEND;TZID=Europe/Berlin:20180616T170000
DTSTAMP:20260422T220443
CREATED:20180405T134357Z
LAST-MODIFIED:20190131T154705Z
UID:10001265-1529139600-1529168400@ljv-rlp.de
SUMMARY:Krähenjagdseminar mit Schießen auf dem Jagdparcours
DESCRIPTION:Dieses Seminar ist ausgebucht. Teilnahme nur noch über Warteliste möglich. Bitte nehmen Sie hierzu telefonisch Kontakt mit uns auf (06727 8944-0).\nDie Jagd auf Rabenkrähen und Elstern ist ebenso wie die Bejagung der bodenorientierten Prädatoren eine wichtige Aufgabe zur Unterstützung des Erhaltens von gefährdeten Arten. Die Referenten geben noch unveröffentlichte Tipps und Tricks wie man den schlauen Krähenvögeln nachstellen kann. Des Weiteren bekommen die Teilnehmer am Seminartag das Schießen auf dem Jagdparcoursstand Neuhof (bei Kirchheimbolanden) unter Anleitung eines erfahrenen Wurfscheibenschützen näher gebracht. Flinten und Munition sind von den Seminarteilnehmern selbst mitzubringen. \nTeilnehmerzahl:\nmax. 20 Personen \nDie Seminargebühren betragen für LJV-Mitglieder 60\,00 Euro und für Nichtmitglieder 110\,00 Euro (jew. inkl. drei Runden Jagdparcoursschießen á 10 Tauben sowie ein Mittagessen). \nDie Gebühren sind nach Erhalt der Rechnung unter Angabe der Rechnungsnummer zu zahlen. \nEine Teilnahme kann nur gewährleistet werden\, wenn die Gebühren ordnungsgemäß 14 Tage vor Lehrgangsbeginn eingegangen sind. \nAnfragen bitte nur an: \nLJV-Geschäftsstelle\nTelefon: 06727 8944-0\nFax: 06727 8944-22\nE-Mail: info@ljv-rlp.de \nFür eventuelle Unterkunft und Verpflegung haben die Seminarteilnehmer selbst Sorge zu tragen. \nZeitplanänderungen vorbehalten!
URL:https://ljv-rlp.de/termin/kraehenjagdseminar-mit-schiessen-auf-dem-jagdparcours/
LOCATION:Landesjagdverband Rheinland-Pfalz e.V.\, Fasanerie 1\, Gensingen\, Rheinland-Pfalz\, 55457\, Deutschland
CATEGORIES:Seminare
ATTACH;FMTTYPE=image/jpeg:https://ljv-rlp.de/wp-content/uploads/2018/04/Rabenvogelbejagung-mit-Schiessen-auf-dem-Jagdparcours.jpg
GEO:49.8966084;7.9177049
X-APPLE-STRUCTURED-LOCATION;VALUE=URI;X-ADDRESS=Landesjagdverband Rheinland-Pfalz e.V. Fasanerie 1 Gensingen Rheinland-Pfalz 55457 Deutschland;X-APPLE-RADIUS=500;X-TITLE=Fasanerie 1:geo:7.9177049,49.8966084
END:VEVENT
BEGIN:VEVENT
DTSTART;TZID=Europe/Berlin:20180621T170000
DTEND;TZID=Europe/Berlin:20180621T200000
DTSTAMP:20260422T220443
CREATED:20180619T131819Z
LAST-MODIFIED:20190131T154705Z
UID:10001278-1529600400-1529611200@ljv-rlp.de
SUMMARY:Exkursion und Info-Veranstaltung Naturschutzmaßnahmen in der Feldflur
DESCRIPTION:Programm:\n\n\n\n\nBienensterben\, Insektentod\, Rebhuhn und Wachtel vor dem Verschwinden. Um viele Tier- und Pflanzenarten in unseren Feldfluren ist es nicht gut bestellt. Rund zwei Drittel aller Offenlandarten stehen auf der Roten Liste des Bundesländer. \nDas Problem ist mittlerweile in der Öffentlichkeit angekommen. Längst nicht mehr nur bei Jägern und Naturschützern\, sondern auch bei den Landnutzern. Fast alle Beteiligten sind bereit\, etwas für den Artenschutz zu tun. \nWelche Maßnahmen sind sinnvoll?\nWie soll was im Einzelfall praktisch umgesetzt werden?\nWas für Mögichkeiten der Finanzierung / Förderung gibt es? \nDie Veranstaltung will praktische Lösungen aufzeigen und somit Impulse setzen für mehr Naturschutz in der ackerbaulich genutzten Feldflur.
URL:https://ljv-rlp.de/termin/exkursion-und-info-veranstaltung-naturschutzmassnahmen-in-der-feldflur/
LOCATION:Haus der Vereine\, Hauptstraße 27\, Einselthum\, Rheinland-Pfalz\, 67308\, Deutschland
CATEGORIES:Seminare
GEO:49.65238;8.1256099
X-APPLE-STRUCTURED-LOCATION;VALUE=URI;X-ADDRESS=Haus der Vereine Hauptstraße 27 Einselthum Rheinland-Pfalz 67308 Deutschland;X-APPLE-RADIUS=500;X-TITLE=Hauptstraße 27:geo:8.1256099,49.65238
END:VEVENT
END:VCALENDAR