BEGIN:VCALENDAR
VERSION:2.0
PRODID:-//Landesjagdverband Rheinland-Pfalz e.V. - ECPv6.10.2//NONSGML v1.0//EN
CALSCALE:GREGORIAN
METHOD:PUBLISH
X-WR-CALNAME:Landesjagdverband Rheinland-Pfalz e.V.
X-ORIGINAL-URL:https://ljv-rlp.de
X-WR-CALDESC:Veranstaltungen für Landesjagdverband Rheinland-Pfalz e.V.
REFRESH-INTERVAL;VALUE=DURATION:PT1H
X-Robots-Tag:noindex
X-PUBLISHED-TTL:PT1H
BEGIN:VTIMEZONE
TZID:Europe/Berlin
BEGIN:DAYLIGHT
TZOFFSETFROM:+0100
TZOFFSETTO:+0200
TZNAME:CEST
DTSTART:20180325T010000
END:DAYLIGHT
BEGIN:STANDARD
TZOFFSETFROM:+0200
TZOFFSETTO:+0100
TZNAME:CET
DTSTART:20181028T010000
END:STANDARD
END:VTIMEZONE
BEGIN:VEVENT
DTSTART;TZID=Europe/Berlin:20180414T090000
DTEND;TZID=Europe/Berlin:20180414T160000
DTSTAMP:20260423T012030
CREATED:20180405T142006Z
LAST-MODIFIED:20190131T154705Z
UID:10001272-1523696400-1523721600@ljv-rlp.de
SUMMARY:Ein Jagdhundewelpe kommt ins Haus
DESCRIPTION:Der erfahrene Hundeführer und -ausbilder Uwe Tabel erläutert sinnvolle Möglichkeiten der Welpen- und Junghunderziehung als Vorbereitung auf die jagdliche Praxis und als Grundlage für eine dauerhaft vertrauensvolle Beziehung zwischen Mensch und Hund. \nEbenso geht er auf die verantwortungsvolle Aufgabe der Züchter ein\, und erläutert die Grundlagen der Auswahl des Jagdgefährten für den individuellen Einsatz im Revier. \nKonkrete Beispiele mit praktischen Demonstrationen zeigen\, wie aus jedem entsprechend veranlagtem Hund ein qualifizierter und unentbehrlicher Helfer bei der Jagd werden kann. Für die praktischen Übungen können max. 20 Welpen zugelassen werden. Gesamtteilnehmerzahl max. 36 Personen. \nTeilnehmerzahl:\nmax. 36 Personen \nAn den praktischen Übungen können maximal 20 Jagdhunde teilnehmen (Berücksichtigung nach Posteingang) \nDie Seminargebühren betragen für LJV-Mitglieder 40\,00 Euro und für Nichtmitglieder 70\,00 Euro. \nDie Gebühren sind nach Erhalt der Rechnung unter Angabe der Rechnungsnummer zu zahlen. \nEine Teilnahme kann nur gewährleistet werden\, wenn die Gebühren ordnungsgemäß 14 Tage vor Lehrgangsbeginn eingegangen sind. \nAnfragen bitte nur an: \nLJV-Geschäftsstelle\nTelefon: 06727 8944-0\nFax: 06727 8944-22\nE-Mail: info@ljv-rlp.de \nFür eventuelle Unterkunft und Verpflegung haben die Seminarteilnehmer selbst Sorge zu tragen. \nZeitplanänderungen vorbehalten!
URL:https://ljv-rlp.de/termin/ein-jagdhundewelpe-kommt-ins-haus/
LOCATION:Landesjagdverband Rheinland-Pfalz e.V.\, Fasanerie 1\, Gensingen\, Rheinland-Pfalz\, 55457\, Deutschland
CATEGORIES:Seminare
ATTACH;FMTTYPE=image/jpeg:https://ljv-rlp.de/wp-content/uploads/2018/04/Ein-Welpe-kommt-ins-Haus_3_klein.jpg
GEO:49.8966084;7.9177049
X-APPLE-STRUCTURED-LOCATION;VALUE=URI;X-ADDRESS=Landesjagdverband Rheinland-Pfalz e.V. Fasanerie 1 Gensingen Rheinland-Pfalz 55457 Deutschland;X-APPLE-RADIUS=500;X-TITLE=Fasanerie 1:geo:7.9177049,49.8966084
END:VEVENT
BEGIN:VEVENT
DTSTART;TZID=Europe/Berlin:20180421T090000
DTEND;TZID=Europe/Berlin:20180421T160000
DTSTAMP:20260423T012030
CREATED:20180405T141230Z
LAST-MODIFIED:20190131T154705Z
UID:10001271-1524301200-1524326400@ljv-rlp.de
SUMMARY:Einführungsseminar „Erlebnisschule Wald & Wild“
DESCRIPTION:Im Rahmen des Einführungsseminars vermittelt der Referent\, ein erfahrener Waldpädagoge\, nicht nur organisatorische Grundlagen\, sondern auch praktische Hinweise zum Einsatz der mobilen „Erlebnisschule Wald & Wild“. Die Teilnahme an dem Einführungsseminar ist Voraussetzung für die Ausleihe und Betreuung der Erlebnisschule. \nTeilnehmerzahl:\nmax. 20 Personen \nDas Seminar ist für LJV-Mitglieder und Angehörige der Landesforsten RLP kostenlos. Für Nichtmitglieder beträgt die Seminargebühr 70\,00 Euro. \nDie Gebühren sind nach Erhalt der Rechnung unter Angabe der Rechnungsnummer zu zahlen. \nEine Teilnahme kann nur gewährleistet werden\, wenn die Gebühren ordnungsgemäß 14 Tage vor Lehrgangsbeginn eingegangen sind. \nAnfragen bitte nur an: \nLJV-Geschäftsstelle\nTelefon: 06727 8944-0\nFax: 06727 8944-22\nE-Mail: info@ljv-rlp.de \nFür eventuelle Unterkunft und Verpflegung haben die Seminarteilnehmer selbst Sorge zu tragen. \nZeitplanänderungen vorbehalten!
URL:https://ljv-rlp.de/termin/einfuehrungsseminar-erlebnisschule-wald-wild/
LOCATION:Landesjagdverband Rheinland-Pfalz e.V.\, Fasanerie 1\, Gensingen\, Rheinland-Pfalz\, 55457\, Deutschland
CATEGORIES:Seminare
ATTACH;FMTTYPE=image/jpeg:https://ljv-rlp.de/wp-content/uploads/2018/04/AussenhautBeifahrerseite.jpg
GEO:49.8966084;7.9177049
X-APPLE-STRUCTURED-LOCATION;VALUE=URI;X-ADDRESS=Landesjagdverband Rheinland-Pfalz e.V. Fasanerie 1 Gensingen Rheinland-Pfalz 55457 Deutschland;X-APPLE-RADIUS=500;X-TITLE=Fasanerie 1:geo:7.9177049,49.8966084
END:VEVENT
BEGIN:VEVENT
DTSTART;TZID=Europe/Berlin:20180428T090000
DTEND;TZID=Europe/Berlin:20180428T160000
DTSTAMP:20260423T012030
CREATED:20180405T140219Z
LAST-MODIFIED:20190131T154705Z
UID:10001269-1524906000-1524931200@ljv-rlp.de
SUMMARY:Reviereinrichtungen selbst gebaut – Wildschadensleiter- und Drückjagdbock
DESCRIPTION:Der Drückjagdbock sowie die Wildschadensleiter dienen sowohl der Wildschadensabwehr im Feld als auch als Stand für die winterliche Drückjagd. Mit geringem Aufwand sind diese Reviereinrichtungen zu erbauen und lassen sich von zwei Personen leicht transportieren. Die Teilnehmer bauen die Wildschadensleiter sowie den Drückjagdbock unter Anleitung. Am Seminarende können die gebauten Exemplare gegen Ersatz der Materialkosten erworben werden. Die Mitnahme der Ansitzeinrichtungen sollte am gleichen Tag\, oder nach Vereinbarung\, erfolgen. Hierzu ist ein Pkw-Anhänger erforderlich. \nTeilnehmerzahl:\nmax. 10 Personen \nDie Seminargebühren betragen für LJV-Mitglieder 40\,00 Euro und für Nichtmitglieder 70\,00 Euro. \nDie Gebühren sind nach Erhalt der Rechnung unter Angabe der Rechnungsnummer zu zahlen. \nEine Teilnahme kann nur gewährleistet werden\, wenn die Gebühren ordnungsgemäß 14 Tage vor Lehrgangsbeginn eingegangen sind. \nAnfragen bitte nur an: \nLJV-Geschäftsstelle\nTelefon: 06727 8944-0\nFax: 06727 8944-22\nE-Mail: info@ljv-rlp.de \nFür eventuelle Unterkunft und Verpflegung haben die Seminarteilnehmer selbst Sorge zu tragen. \nZeitplanänderungen vorbehalten!
URL:https://ljv-rlp.de/termin/reviereinrichtungen-selbst-gebaut-wildschadensleiter-und-drueckjagdbock/
LOCATION:Landesjagdverband Rheinland-Pfalz e.V.\, Fasanerie 1\, Gensingen\, Rheinland-Pfalz\, 55457\, Deutschland
CATEGORIES:Seminare
ATTACH;FMTTYPE=image/jpeg:https://ljv-rlp.de/wp-content/uploads/2018/04/Hochsitzbau.jpg
GEO:49.8966084;7.9177049
X-APPLE-STRUCTURED-LOCATION;VALUE=URI;X-ADDRESS=Landesjagdverband Rheinland-Pfalz e.V. Fasanerie 1 Gensingen Rheinland-Pfalz 55457 Deutschland;X-APPLE-RADIUS=500;X-TITLE=Fasanerie 1:geo:7.9177049,49.8966084
END:VEVENT
BEGIN:VEVENT
DTSTART;TZID=Europe/Berlin:20180428T093000
DTEND;TZID=Europe/Berlin:20180428T163000
DTSTAMP:20260423T012030
CREATED:20180405T140738Z
LAST-MODIFIED:20190131T154705Z
UID:10001270-1524907800-1524933000@ljv-rlp.de
SUMMARY:Mentorenseminar: Jagdhundewesen für die Jägerprüfung
DESCRIPTION:Am Seminartag wird der Referent insbesondere Mentoren und Prüfer zur Jägerprüfung über die notwendigen Kenntnisse informieren\, die im Rahmen der Ausbildung zur Jägerprüfung hinsichtlich des Themas Jagdhunde zu berücksichtigen sind. Dabei werden verschiedene Aspekte\, wie z.B. anerkannte und zugelassene Jagdhunderassen und deren Einsatzgebiete\, gesetzlich geforderte Qualifikationen eines Jagdhundes zum Einsatz im Jagdbetrieb\, bis hin zur rassespezifischen Leistungsprüfung erörtert. Als ein ebenso wichtiger Teil wird die Verantwortung der Jäger für den tierschutzkonformen Einsatz der Jagdhelfer betrachtet. Weitere Themen wie\, Ernährung\, Krankheiten\, Impfungen\, Junghundeausbildung\, jagdrechtliche Aspekte bei der Nachsuche\, Pirschzeichen bei der Nachsuche\, Wahl der geeigneten Rasse\, Teilnahme an Jagdhundeprüfungen\, werden ebenso am Seminartag beleuchtet. \nTeilnehmerzahl:\nmax. 36 Personen \nDas Seminar ist für Mentoren\, Prüfer u. Ausbilder kostenfrei\, die Mitglied im LJV RLP e.V. sind. Die Seminargebühren betragen für sonstige LJV-Mitglieder 40\,– Euro und für Nichtmitglieder 70\,00 Euro. \nDie Gebühren sind nach Erhalt der Rechnung unter Angabe der Rechnungsnummer zu zahlen. \nEine Teilnahme kann nur gewährleistet werden\, wenn die Gebühren ordnungsgemäß 14 Tage vor Lehrgangsbeginn eingegangen sind. \nAnfragen bitte nur an: \nLJV-Geschäftsstelle\nTelefon: 06727 8944-0\nFax: 06727 8944-22\nE-Mail: info@ljv-rlp.de \nFür eventuelle Unterkunft und Verpflegung haben die Seminarteilnehmer selbst Sorge zu tragen. \nZeitplanänderungen vorbehalten!
URL:https://ljv-rlp.de/termin/mentorenseminar-jagdhundewesen-fuer-die-jaegerpruefung/
LOCATION:Landesjagdverband Rheinland-Pfalz e.V.\, Fasanerie 1\, Gensingen\, Rheinland-Pfalz\, 55457\, Deutschland
CATEGORIES:Seminare
ATTACH;FMTTYPE=image/jpeg:https://ljv-rlp.de/wp-content/uploads/2018/04/Jagdhund_Weimaraner-scaled.jpg
GEO:49.8966084;7.9177049
X-APPLE-STRUCTURED-LOCATION;VALUE=URI;X-ADDRESS=Landesjagdverband Rheinland-Pfalz e.V. Fasanerie 1 Gensingen Rheinland-Pfalz 55457 Deutschland;X-APPLE-RADIUS=500;X-TITLE=Fasanerie 1:geo:7.9177049,49.8966084
END:VEVENT
END:VCALENDAR