BEGIN:VCALENDAR
VERSION:2.0
PRODID:-//Landesjagdverband Rheinland-Pfalz e.V. - ECPv6.10.2//NONSGML v1.0//EN
CALSCALE:GREGORIAN
METHOD:PUBLISH
X-ORIGINAL-URL:https://ljv-rlp.de
X-WR-CALDESC:Veranstaltungen für Landesjagdverband Rheinland-Pfalz e.V.
REFRESH-INTERVAL;VALUE=DURATION:PT1H
X-Robots-Tag:noindex
X-PUBLISHED-TTL:PT1H
BEGIN:VTIMEZONE
TZID:Europe/Berlin
BEGIN:DAYLIGHT
TZOFFSETFROM:+0100
TZOFFSETTO:+0200
TZNAME:CEST
DTSTART:20180325T010000
END:DAYLIGHT
BEGIN:STANDARD
TZOFFSETFROM:+0200
TZOFFSETTO:+0100
TZNAME:CET
DTSTART:20181028T010000
END:STANDARD
END:VTIMEZONE
BEGIN:VEVENT
DTSTART;VALUE=DATE:20180130
DTEND;VALUE=DATE:20180205
DTSTAMP:20260423T042719
CREATED:20180315T091428Z
LAST-MODIFIED:20190131T154705Z
UID:10001251-1517270400-1517788799@ljv-rlp.de
SUMMARY:JAGD & HUND Europas größte Jagdmesse
DESCRIPTION:
URL:https://ljv-rlp.de/termin/jagd-hund/
CATEGORIES:Seminare
END:VEVENT
BEGIN:VEVENT
DTSTART;VALUE=DATE:20180217
DTEND;VALUE=DATE:20180218
DTSTAMP:20260423T042719
CREATED:20180315T093330Z
LAST-MODIFIED:20190131T154705Z
UID:10001252-1518825600-1518911999@ljv-rlp.de
SUMMARY:Schießobleutetagung in Gensingen
DESCRIPTION:
URL:https://ljv-rlp.de/termin/schiessobleutetagung-in-gensingen/
CATEGORIES:Seminare
END:VEVENT
END:VCALENDAR