BEGIN:VCALENDAR
VERSION:2.0
PRODID:-//Landesjagdverband Rheinland-Pfalz e.V. - ECPv6.10.2//NONSGML v1.0//EN
CALSCALE:GREGORIAN
METHOD:PUBLISH
X-WR-CALNAME:Landesjagdverband Rheinland-Pfalz e.V.
X-ORIGINAL-URL:https://ljv-rlp.de
X-WR-CALDESC:Veranstaltungen für Landesjagdverband Rheinland-Pfalz e.V.
REFRESH-INTERVAL;VALUE=DURATION:PT1H
X-Robots-Tag:noindex
X-PUBLISHED-TTL:PT1H
BEGIN:VTIMEZONE
TZID:Europe/Berlin
BEGIN:DAYLIGHT
TZOFFSETFROM:+0100
TZOFFSETTO:+0200
TZNAME:CEST
DTSTART:20200329T010000
END:DAYLIGHT
BEGIN:STANDARD
TZOFFSETFROM:+0200
TZOFFSETTO:+0100
TZNAME:CET
DTSTART:20201025T010000
END:STANDARD
END:VTIMEZONE
BEGIN:VEVENT
DTSTART;TZID=Europe/Berlin:20200215T093000
DTEND;TZID=Europe/Berlin:20200215T150000
DTSTAMP:20260421T144156
CREATED:20191228T070023Z
LAST-MODIFIED:20200212T145101Z
UID:10001208-1581759000-1581778800@ljv-rlp.de
SUMMARY:Jagdscheinausbilder-\, Prüfer-\, Mentorenseminar:  Naturschutz wichtiger denn je!
DESCRIPTION:Dieses Seminar ist ausgebucht. Teilnahme nur über Warteliste möglich.\nSeminarinhalt: Prüfungsfach 6: Tierschutz\, Naturschutz\, Landschaftspflegerecht\, angewandter Naturschutz im jagdlichen Alltag. \nMit der Verantwortung für künftige Jägergenerationen erhält auch das Thema Naturschutz erhebliche Relevanz. Wer hat welche Aufgaben\, wie können wir uns Jäger verantwortungsvoll einbringen. Biodiversität\, Monitoring\, wer arbeitet wie mit wem zusammen? Die Referenten gehen auf unterschiedliche Herangehensweisen an das Thema Naturschutz im jagdlichen Alltag ein. Jungjägerprüfungsvorbereitung – nachhaltiges Anwenden und Umsetzen des Themas Naturschutz bei der Jagd. \nAnmeldeschluss:\n7.2.2020 \nReferenten: \nDr. Herbert Kraft\, Frank Voigtländer \nTeilnehmerzahl:\nmax. 36 \nDie Seminargebühren:\nFür LJV RLP Mentoren und Prüfer kostenfrei\, sonstige LJV-Mitglieder 40\,00 Euro und für Nichtmitglieder 70\,00 Euro. \nDie Gebühren sind nach Erhalt der Rechnung unter Angabe der Rechnungsnummer zu zahlen. \nEine Teilnahme kann nur gewährleistet werden\, wenn die Gebühren ordnungsgemäß 14 Tage vor Lehrgangsbeginn eingegangen sind. \nAnfragen bitte nur an: \nLJV-Geschäftsstelle\nTelefon: 06727 8944-0\nFax: 06727 8944-22\nE-Mail: j.krick@ljv-rlp.de \nFür eventuelle Unterkunft und Verpflegung haben die Seminarteilnehmer selbst Sorge zu tragen. \nZeitplanänderungen vorbehalten!
URL:https://ljv-rlp.de/termin/jagdscheinausbilder-pruefer-mentorenseminar-naturschutz-wichtiger-denn-je/
LOCATION:Landesjagdverband Rheinland-Pfalz e.V.\, Fasanerie 1\, Gensingen\, Rheinland-Pfalz\, 55457\, Deutschland
CATEGORIES:Seminare
ATTACH;FMTTYPE=image/jpeg:https://ljv-rlp.de/wp-content/uploads/2018/06/Blumenwiese_2.jpg
GEO:49.8966084;7.9177049
X-APPLE-STRUCTURED-LOCATION;VALUE=URI;X-ADDRESS=Landesjagdverband Rheinland-Pfalz e.V. Fasanerie 1 Gensingen Rheinland-Pfalz 55457 Deutschland;X-APPLE-RADIUS=500;X-TITLE=Fasanerie 1:geo:7.9177049,49.8966084
END:VEVENT
END:VCALENDAR