BEGIN:VCALENDAR
VERSION:2.0
PRODID:-//Landesjagdverband Rheinland-Pfalz e.V. - ECPv6.10.2//NONSGML v1.0//EN
CALSCALE:GREGORIAN
METHOD:PUBLISH
X-ORIGINAL-URL:https://ljv-rlp.de
X-WR-CALDESC:Veranstaltungen für Landesjagdverband Rheinland-Pfalz e.V.
REFRESH-INTERVAL;VALUE=DURATION:PT1H
X-Robots-Tag:noindex
X-PUBLISHED-TTL:PT1H
BEGIN:VTIMEZONE
TZID:Europe/Berlin
BEGIN:DAYLIGHT
TZOFFSETFROM:+0100
TZOFFSETTO:+0200
TZNAME:CEST
DTSTART:20200329T010000
END:DAYLIGHT
BEGIN:STANDARD
TZOFFSETFROM:+0200
TZOFFSETTO:+0100
TZNAME:CET
DTSTART:20201025T010000
END:STANDARD
END:VTIMEZONE
BEGIN:VEVENT
DTSTART;TZID=Europe/Berlin:20200128T100000
DTEND;TZID=Europe/Berlin:20200202T180000
DTSTAMP:20260421T143832
CREATED:20191111T145711Z
LAST-MODIFIED:20191111T145711Z
UID:10001198-1580205600-1580666400@ljv-rlp.de
SUMMARY:Messe Jagd & Hund
DESCRIPTION:
URL:https://ljv-rlp.de/termin/messe-jagd-hund/
LOCATION:Westfalenhalle Dortmund\, Strobelallee 45\, Dortmund\, Nordrhein-Westfalen\, 44139\, Deutschland
GEO:51.4956774;7.4541131
X-APPLE-STRUCTURED-LOCATION;VALUE=URI;X-ADDRESS=Westfalenhalle Dortmund Strobelallee 45 Dortmund Nordrhein-Westfalen 44139 Deutschland;X-APPLE-RADIUS=500;X-TITLE=Strobelallee 45:geo:7.4541131,51.4956774
END:VEVENT
END:VCALENDAR