BEGIN:VCALENDAR
VERSION:2.0
PRODID:-//Landesjagdverband Rheinland-Pfalz e.V. - ECPv6.10.2//NONSGML v1.0//EN
CALSCALE:GREGORIAN
METHOD:PUBLISH
X-ORIGINAL-URL:https://ljv-rlp.de
X-WR-CALDESC:Veranstaltungen für Landesjagdverband Rheinland-Pfalz e.V.
REFRESH-INTERVAL;VALUE=DURATION:PT1H
X-Robots-Tag:noindex
X-PUBLISHED-TTL:PT1H
BEGIN:VTIMEZONE
TZID:Europe/Berlin
BEGIN:DAYLIGHT
TZOFFSETFROM:+0100
TZOFFSETTO:+0200
TZNAME:CEST
DTSTART:20200329T010000
END:DAYLIGHT
BEGIN:STANDARD
TZOFFSETFROM:+0200
TZOFFSETTO:+0100
TZNAME:CET
DTSTART:20201025T010000
END:STANDARD
END:VTIMEZONE
BEGIN:VEVENT
DTSTART;TZID=Europe/Berlin:20200109T190000
DTEND;TZID=Europe/Berlin:20200110T010000
DTSTAMP:20260421T162348
CREATED:20190911T091707Z
LAST-MODIFIED:20191111T090728Z
UID:10001311-1578596400-1578618000@ljv-rlp.de
SUMMARY:Lockjagdseminar auf Reinecke
DESCRIPTION:Dieses Seminar ist ausgebucht!\n\nNur für LJV-Mitglieder! Von all unserm Raubwild\, welches die bodenorientierten Arten prädiert\, ist auf Grund seiner Dichte und Populationsdynamik\, der Fuchs ein Schlüsselfaktor. Jeder erlegte weibliche Altfuchs im Januar wird keine Jungfüchse mehr wölfen und somit auch keine Wildtiere zur Fütterung seines Nachwuchses heranschleppen. Jetzt im Januar/Februar\, mit den Möglichkeiten der intensiven Ansitzjagd auf Fuchs\, am Pass oder am Luderplatz oder mittels der Baujagd\, kann gehandelt werden. Sind die Fuchswelpen erst geboren\, verbieten dagegen die gesetzliche Schonzeit und die Grundsätze unserer Weidgerechtigkeit die Bejagung der Elterntiere. \nRevierjagdmeister Robert Ackermann stellt den Seminarteilnehmern verschiedene Bejagungsarten sowie Lockinstrumente vor. Die Seminarteilnehmer werden gebeten\, ihre eigenen Lockinstrumente mitzubringen\, welche am Seminarabend ausführlich getestet werden. Im Anschluss werden wir das Geübte mit einem Ansitz im Lehrrevier umsetzen. \nAnmeldeschluss:\n16.12.2019 \nReferent: \nRevierjagdmeister Robert Ackermann \nTeilnehmerzahl:\nmax. 10Personen \nDie Seminargebühren betragen 75\,00 Euro. \nDie Gebühren sind nach Erhalt der Rechnung unter Angabe der Rechnungsnummer zu zahlen. \nEine Teilnahme kann nur gewährleistet werden\, wenn die Gebühren ordnungsgemäß 14 Tage vor Lehrgangsbeginn eingegangen sind. \nAnfragen bitte nur an: \nLJV-Geschäftsstelle\nTelefon: 06727 8944-0\nFax: 06727 8944-22\nE-Mail: j.krick@ljv-rlp.de \nFür eventuelle Unterkunft und Verpflegung haben die Seminarteilnehmer selbst Sorge zu tragen. \nZeitplanänderungen vorbehalten!
URL:https://ljv-rlp.de/termin/15210/
LOCATION:Landesjagdverband Rheinland-Pfalz e.V.\, Fasanerie 1\, Gensingen\, Rheinland-Pfalz\, 55457\, Deutschland
CATEGORIES:Seminare
ATTACH;FMTTYPE=image/jpeg:https://ljv-rlp.de/wp-content/uploads/2019/09/Fuchs-scaled.jpg
GEO:49.8966084;7.9177049
X-APPLE-STRUCTURED-LOCATION;VALUE=URI;X-ADDRESS=Landesjagdverband Rheinland-Pfalz e.V. Fasanerie 1 Gensingen Rheinland-Pfalz 55457 Deutschland;X-APPLE-RADIUS=500;X-TITLE=Fasanerie 1:geo:7.9177049,49.8966084
END:VEVENT
END:VCALENDAR