BEGIN:VCALENDAR
VERSION:2.0
PRODID:-//Landesjagdverband Rheinland-Pfalz e.V. - ECPv6.10.2//NONSGML v1.0//EN
CALSCALE:GREGORIAN
METHOD:PUBLISH
X-WR-CALNAME:Landesjagdverband Rheinland-Pfalz e.V.
X-ORIGINAL-URL:https://ljv-rlp.de
X-WR-CALDESC:Veranstaltungen für Landesjagdverband Rheinland-Pfalz e.V.
REFRESH-INTERVAL;VALUE=DURATION:PT1H
X-Robots-Tag:noindex
X-PUBLISHED-TTL:PT1H
BEGIN:VTIMEZONE
TZID:Europe/Berlin
BEGIN:DAYLIGHT
TZOFFSETFROM:+0100
TZOFFSETTO:+0200
TZNAME:CEST
DTSTART:20190331T010000
END:DAYLIGHT
BEGIN:STANDARD
TZOFFSETFROM:+0200
TZOFFSETTO:+0100
TZNAME:CET
DTSTART:20191027T010000
END:STANDARD
END:VTIMEZONE
BEGIN:VEVENT
DTSTART;VALUE=DATE:20190410
DTEND;VALUE=DATE:20190419
DTSTAMP:20260422T072033
CREATED:20190205T134754Z
LAST-MODIFIED:20190220T083209Z
UID:10001188-1554854400-1555631999@ljv-rlp.de
SUMMARY:FAJ Donnersberg: Osterhasenpirsch für behinderte Kinder der Schule am Donnersberg
DESCRIPTION:In der Zeit vom 10. bis 18. April 2019 (außer Samstag u. Sonntag)  wird täglich eine andere Schulklasse mit ihren Lehrern und Betreuern im Revier Münchweiler links der Alsenz dem Osterhasen auf der Spur sein. \nDer tägliche Ablauf beginnt mit der Anreise aus Rockenhausen. Danach folgt ein Frühstück\, anschließend begeben wir uns in den Wald um die vom Osterhasen versteckten Geschenke zu suchen. Zum Abschluss wird an der Hütte nochmals eine kleine Suchaktion für die Rollstuhlfahrer stattfinden.
URL:https://ljv-rlp.de/termin/osterhasenpirsch-fuer-behinderte-kinder-der-schule-am-donnersberg/
LOCATION:Heuberghütte Lohnsfeld\, Heuberghütte\, 67727 Lohnsfeld\, Rheinland-Pfalz\, Deutschland
CATEGORIES:FAJ Termine
ORGANIZER;CN="Fachausschuss J%C3%A4gerinnen Donnersberg":MAILTO:rbickmann@web.de
GEO:49.5505327;7.8532225
X-APPLE-STRUCTURED-LOCATION;VALUE=URI;X-ADDRESS=Heuberghütte Lohnsfeld Heuberghütte 67727 Lohnsfeld Rheinland-Pfalz Deutschland;X-APPLE-RADIUS=500;X-TITLE=Heuberghütte:geo:7.8532225,49.5505327
END:VEVENT
END:VCALENDAR