BEGIN:VCALENDAR
VERSION:2.0
PRODID:-//Landesjagdverband Rheinland-Pfalz e.V. - ECPv6.10.2//NONSGML v1.0//EN
CALSCALE:GREGORIAN
METHOD:PUBLISH
X-WR-CALNAME:Landesjagdverband Rheinland-Pfalz e.V.
X-ORIGINAL-URL:https://ljv-rlp.de
X-WR-CALDESC:Veranstaltungen für Landesjagdverband Rheinland-Pfalz e.V.
REFRESH-INTERVAL;VALUE=DURATION:PT1H
X-Robots-Tag:noindex
X-PUBLISHED-TTL:PT1H
BEGIN:VTIMEZONE
TZID:Europe/Berlin
BEGIN:DAYLIGHT
TZOFFSETFROM:+0100
TZOFFSETTO:+0200
TZNAME:CEST
DTSTART:20190331T010000
END:DAYLIGHT
BEGIN:STANDARD
TZOFFSETFROM:+0200
TZOFFSETTO:+0100
TZNAME:CET
DTSTART:20191027T010000
END:STANDARD
END:VTIMEZONE
BEGIN:VEVENT
DTSTART;VALUE=DATE:20190302
DTEND;VALUE=DATE:20190303
DTSTAMP:20260422T090148
CREATED:20181017T120425Z
LAST-MODIFIED:20221219T085651Z
UID:10001286-1551484800-1551571199@ljv-rlp.de
SUMMARY:Hundeobleutetagung
DESCRIPTION:
URL:https://ljv-rlp.de/termin/hundeobleutetagung/
LOCATION:Landesjagdverband Rheinland-Pfalz e.V.\, Fasanerie 1\, Gensingen\, Rheinland-Pfalz\, 55457\, Deutschland
GEO:49.8966084;7.9177049
X-APPLE-STRUCTURED-LOCATION;VALUE=URI;X-ADDRESS=Landesjagdverband Rheinland-Pfalz e.V. Fasanerie 1 Gensingen Rheinland-Pfalz 55457 Deutschland;X-APPLE-RADIUS=500;X-TITLE=Fasanerie 1:geo:7.9177049,49.8966084
END:VEVENT
BEGIN:VEVENT
DTSTART;TZID=Europe/Berlin:20190302T090000
DTEND;TZID=Europe/Berlin:20190302T170000
DTSTAMP:20260422T090148
CREATED:20181221T130030Z
LAST-MODIFIED:20190219T105743Z
UID:10001182-1551517200-1551546000@ljv-rlp.de
SUMMARY:Wildschaden Feld und Wiese: Verhüten\, erkennen und berechnen
DESCRIPTION:Dieses Seminar ist ausgebucht! Anmeldungen nur über die Nachrücker-Liste möglich.\nIn Zeiten der Klimaveränderung werden die zeitlichen Abstände der Mastjahre bei Waldbäumen immer kürzer. Nach Aufnahme von Bucheckern\, Eicheln & Co. benötigen die Schwarzkittel zum Ausgleich vermehrt tierisches Eiweiß\, das sie durch Suche und Aufnahme von Würmern\, Larven usw. unter der Oberfläche von Feldern und Grünflächen meist reichlich finden – mit den damit einhergehenden Wiesenschäden. \nAm Seminartag wird Landwirt und Revierjagdmeister Robert Ackermann die Wertermittlung der unterschiedlichen Grünlandarten erläutern und ersatzpflichtige Wildschäden durch Schalenwild und Niederwild an anderen landwirtschaftlichen Kulturen ausführlich behandeln. \nDarüber hinaus werden Schadbilder aufgezeigt\, die nicht durch Wild verursacht wurden. Ebenso werden verschiedene Arten der Wildschadensberechnung besprochen. Dabei geht der Referent auch auf wirksame Schutzmaßnahmen und sonstige Möglichkeiten der Wildschadensvermeidung einschließlich der Populationsdynamik des Hauptwildschadensverursachers Schwarzwild ein. Am Nachmittag wird im Lehrrevier ein Praxisbespiel zur Berechnung und Wiederherstellung eines Wiesenschadens gezeigt. \nAnmeldeschluss:\n22.2.2019 \nTeilnehmerzahl:\nmax. 36 Personen \nDie Seminargebühren betragen für LJV-Mitglieder 40\,00 Euro und für Nichtmitglieder 70\,00 Euro. \nDie Gebühren sind nach Erhalt der Rechnung unter Angabe der Rechnungsnummer zu zahlen. \nEine Teilnahme kann nur gewährleistet werden\, wenn die Gebühren ordnungsgemäß 14 Tage vor Lehrgangsbeginn eingegangen sind. \nAnfragen bitte nur an: \nLJV-Geschäftsstelle\nTelefon: 06727 8944-0\nFax: 06727 8944-22\nE-Mail: info@ljv-rlp.de \nFür eventuelle Unterkunft und Verpflegung haben die Seminarteilnehmer selbst Sorge zu tragen. \nZeitplanänderungen vorbehalten!
URL:https://ljv-rlp.de/termin/wildschaden-feld-und-wiese-verhueten-erkennen-und-berechnen/
LOCATION:Landesjagdverband Rheinland-Pfalz e.V.\, Fasanerie 1\, Gensingen\, Rheinland-Pfalz\, 55457\, Deutschland
CATEGORIES:Seminare
ATTACH;FMTTYPE=image/jpeg:https://ljv-rlp.de/wp-content/uploads/2018/03/Qualität-der-Wiese.jpg
ORGANIZER;CN="Landsjagdverband Rheinland-Pfalz":MAILTO:info@ljv-rlp.de
GEO:49.8966084;7.9177049
X-APPLE-STRUCTURED-LOCATION;VALUE=URI;X-ADDRESS=Landesjagdverband Rheinland-Pfalz e.V. Fasanerie 1 Gensingen Rheinland-Pfalz 55457 Deutschland;X-APPLE-RADIUS=500;X-TITLE=Fasanerie 1:geo:7.9177049,49.8966084
END:VEVENT
END:VCALENDAR