BEGIN:VCALENDAR
VERSION:2.0
PRODID:-//Landesjagdverband Rheinland-Pfalz e.V. - ECPv6.10.2//NONSGML v1.0//EN
CALSCALE:GREGORIAN
METHOD:PUBLISH
X-ORIGINAL-URL:https://ljv-rlp.de
X-WR-CALDESC:Veranstaltungen für Landesjagdverband Rheinland-Pfalz e.V.
REFRESH-INTERVAL;VALUE=DURATION:PT1H
X-Robots-Tag:noindex
X-PUBLISHED-TTL:PT1H
BEGIN:VTIMEZONE
TZID:Europe/Berlin
BEGIN:DAYLIGHT
TZOFFSETFROM:+0100
TZOFFSETTO:+0200
TZNAME:CEST
DTSTART:20190331T010000
END:DAYLIGHT
BEGIN:STANDARD
TZOFFSETFROM:+0200
TZOFFSETTO:+0100
TZNAME:CET
DTSTART:20191027T010000
END:STANDARD
END:VTIMEZONE
BEGIN:VEVENT
DTSTART;TZID=Europe/Berlin:20190215T150000
DTEND;TZID=Europe/Berlin:20190215T210000
DTSTAMP:20260422T104814
CREATED:20181221T130018Z
LAST-MODIFIED:20190131T154704Z
UID:10001180-1550242800-1550264400@ljv-rlp.de
SUMMARY:Neu! Trophäenbewertungsseminar
DESCRIPTION:Auch wenn die Qualität einer Trophäe nicht in jedem Jägerhaushalt im Vordergrund steht\, ist sie doch ein Indikator für eine gesunde Wildtierpopulation bzw. hat Aussagekraft über den jeweiligen Biotop. Zu einer nachhaltigen Bejagung der verschiedenen trophäentragenden Wildarten gehört daher eine solche Begutachtung und Bewertung ebenso wie die Wildbesatz-/ bestandserfassung selbst. \nDie Mitglieder der Bewertungskommission der Landestrophäenschau werden neben dem Wissen über die Lebensraumansprüche der in Rheinland Pfalz vorkommenden Schalenwildarten die Grundlagen der CIC-Bewertungsvorgaben darstellen\, erläutern und anhand von praktischen Beispielen demonstrieren. Hierzu sind alle HRL und die schriftlich beauftragte Mitglieder von Trophäenbewertungskommissionen aus den Kreisgruppen kostenfrei eingeladen. \nAnmeldeschluss:\n8.2.2019 \nTeilnehmerzahl:\nmax. 36 Personen \nReferenten:\nUli Umbach\, Rolf Bergheimund Christoph Hildebrandt\n \nGebühr:\nHegeringleiter und schriftlich beauftragte Mitglieder von Trophäenbewertungskommissionen aus den Kreisgruppen kostenfrei.\nEine schriftliche Bestätigung ist der Anmeldung bitte beizufügen (Postweg\, E-Mail\, Fax).\nDie Seminargebühren betragen für LJV-Mitglieder 40\,00 Euro und für Nichtmitglieder 70\,00 Euro. \nDie Gebühren sind nach Erhalt der Rechnung unter Angabe der Rechnungsnummer zu zahlen. \nEine Teilnahme kann nur gewährleistet werden\, wenn die Gebühren ordnungsgemäß 14 Tage vor Lehrgangsbeginn eingegangen sind. \nAnfragen bitte nur an: \nLJV-Geschäftsstelle\nTelefon: 06727 8944-0\nFax: 06727 8944-22\nE-Mail: info@ljv-rlp.de \nFür eventuelle Unterkunft und Verpflegung haben die Seminarteilnehmer selbst Sorge zu tragen. \nZeitplanänderungen vorbehalten! \n 
URL:https://ljv-rlp.de/termin/neu-trophaeenbewertungsseminar/
LOCATION:Landesjagdverband Rheinland-Pfalz e.V.\, Fasanerie 1\, Gensingen\, Rheinland-Pfalz\, 55457\, Deutschland
CATEGORIES:Seminare
ATTACH;FMTTYPE=image/jpeg:https://ljv-rlp.de/wp-content/uploads/2018/12/Trophäen.jpg
ORGANIZER;CN="Landsjagdverband Rheinland-Pfalz":MAILTO:info@ljv-rlp.de
GEO:49.8966084;7.9177049
X-APPLE-STRUCTURED-LOCATION;VALUE=URI;X-ADDRESS=Landesjagdverband Rheinland-Pfalz e.V. Fasanerie 1 Gensingen Rheinland-Pfalz 55457 Deutschland;X-APPLE-RADIUS=500;X-TITLE=Fasanerie 1:geo:7.9177049,49.8966084
END:VEVENT
END:VCALENDAR