BEGIN:VCALENDAR
VERSION:2.0
PRODID:-//Landesjagdverband Rheinland-Pfalz e.V. - ECPv6.10.2//NONSGML v1.0//EN
CALSCALE:GREGORIAN
METHOD:PUBLISH
X-ORIGINAL-URL:https://ljv-rlp.de
X-WR-CALDESC:Veranstaltungen für Landesjagdverband Rheinland-Pfalz e.V.
REFRESH-INTERVAL;VALUE=DURATION:PT1H
X-Robots-Tag:noindex
X-PUBLISHED-TTL:PT1H
BEGIN:VTIMEZONE
TZID:Europe/Berlin
BEGIN:DAYLIGHT
TZOFFSETFROM:+0100
TZOFFSETTO:+0200
TZNAME:CEST
DTSTART:20180325T010000
END:DAYLIGHT
BEGIN:STANDARD
TZOFFSETFROM:+0200
TZOFFSETTO:+0100
TZNAME:CET
DTSTART:20181028T010000
END:STANDARD
END:VTIMEZONE
BEGIN:VEVENT
DTSTART;TZID=Europe/Berlin:20181020T100000
DTEND;TZID=Europe/Berlin:20181020T170000
DTSTAMP:20260422T174643
CREATED:20180405T091441Z
LAST-MODIFIED:20221219T085703Z
UID:10001260-1540029600-1540054800@ljv-rlp.de
SUMMARY:Veredelungsseminar Wildbret – Herstellung von Wildwurst Wildschinken
DESCRIPTION:Dieses Seminar ist ausgebucht. Teilnahme nur noch über Warteliste möglich. Bitte nehmen Sie hierzu telefonisch Kontakt mit uns auf (06727 8944-0).\nDie Zahl der Selbstversorger auch unter den Jägern steigt ständig. Die Veredelung von Wildfleisch zur Vermarktung ist aufgrund der gesetzlichen Vorgaben für uns als Jäger meist ausgeschlossen. Allerdings ist es gestattet\, Wurstwaren für den Eigenverbrauch selbst herzustellen. Das Knowhow zur Erzeugung unterschiedlicher Roh- sowie Kochwurstprodukte aus heimischen Wildbret wird am Seminartag vermittelt. \nTeilnehmerzahl:\nmax. 20 Personen \nDie Seminargebühren betragen für LJV-Mitglieder 50\,00 Euro und für Nichtmitglieder 100\,00 Euro. \nDie Gebühren sind nach Erhalt der Rechnung unter Angabe der Rechnungsnummer zu zahlen. \nEine Teilnahme kann nur gewährleistet werden\, wenn die Gebühren ordnungsgemäß 14 Tage vor Lehrgangsbeginn eingegangen sind. \nAnfragen bitte nur an: \nLJV-Geschäftsstelle\nTelefon: 06727 8944-0\nFax: 06727 8944-22\nE-Mail: info@ljv-rlp.de \nFür eventuelle Unterkunft und Verpflegung haben die Seminarteilnehmer selbst Sorge zu tragen. \nZeitplanänderungen vorbehalten!
URL:https://ljv-rlp.de/termin/veredelungsseminar-wildbret-herstellung-von-wildwurst-wildschinken/
LOCATION:Landesjagdverband Rheinland-Pfalz e.V.\, Fasanerie 1\, Gensingen\, Rheinland-Pfalz\, 55457\, Deutschland
CATEGORIES:Seminare
ATTACH;FMTTYPE=image/jpeg:https://ljv-rlp.de/wp-content/uploads/2018/04/Wildwurst_klein.jpg
GEO:49.8966084;7.9177049
X-APPLE-STRUCTURED-LOCATION;VALUE=URI;X-ADDRESS=Landesjagdverband Rheinland-Pfalz e.V. Fasanerie 1 Gensingen Rheinland-Pfalz 55457 Deutschland;X-APPLE-RADIUS=500;X-TITLE=Fasanerie 1:geo:7.9177049,49.8966084
END:VEVENT
END:VCALENDAR