BEGIN:VCALENDAR
VERSION:2.0
PRODID:-//Landesjagdverband Rheinland-Pfalz e.V. - ECPv6.10.2//NONSGML v1.0//EN
CALSCALE:GREGORIAN
METHOD:PUBLISH
X-ORIGINAL-URL:https://ljv-rlp.de
X-WR-CALDESC:Veranstaltungen für Landesjagdverband Rheinland-Pfalz e.V.
REFRESH-INTERVAL;VALUE=DURATION:PT1H
X-Robots-Tag:noindex
X-PUBLISHED-TTL:PT1H
BEGIN:VTIMEZONE
TZID:Europe/Berlin
BEGIN:DAYLIGHT
TZOFFSETFROM:+0100
TZOFFSETTO:+0200
TZNAME:CEST
DTSTART:20180325T010000
END:DAYLIGHT
BEGIN:STANDARD
TZOFFSETFROM:+0200
TZOFFSETTO:+0100
TZNAME:CET
DTSTART:20181028T010000
END:STANDARD
END:VTIMEZONE
BEGIN:VEVENT
DTSTART;TZID=Europe/Berlin:20180913T190000
DTEND;TZID=Europe/Berlin:20180913T213000
DTSTAMP:20260422T190941
CREATED:20180621T095219Z
LAST-MODIFIED:20221219T085712Z
UID:10001281-1536865200-1536874200@ljv-rlp.de
SUMMARY:Regionalkonferenz in der Region Westerwald zur Afrikanischen Schweinepest bei Wildschweinen
DESCRIPTION:Die fortschreitende Ausbreitung der Afrikanischen Schweinepest (ASP) in Nord- und Osteuropa wird insbesondere von Schweinehaltern und angegliederten Wirtschaftszweigen\, Jägern\, Tierärzten sowie der Veterinär- und Jagdverwaltung mit großer Sorge betrachtet. Um Sie über den aktuellen Stand\, die Präventionsmaßnahmen zur ASP sowie über jagdliche Möglichkeiten und wildbiologische Zusammenhänge zu informieren und zu diskutieren lädt das Ministerium für Umwelt\, Energie\, Ernährung und Forsten zu vier Regionalkonferenzen ein. \nProgramm\n19:00 Uhr \nBegrüßung und Einführung \nAfrikanische Schweinepest – warum ist sie so tückisch? Was kann ich als Jäger tun? Und was passiert im Falle eines Ausbruchs? (Oberste Veterinärbehörde RLP) \nDie Biologie des Schwarzwildes (Forschungsanstalt für Waldökologie und Forstwirtschaft RLP) \nJagdstreckenentwicklung des Schwarzwildes in Rheinland-Pfalz und jagdliche Möglichkeiten der Reduktion (Oberste Jagdbehörde RLP) \nAustausch und Diskussion zur Klärung regionaler Fragen \n21:30 Uhr: Ende der Veranstaltung
URL:https://ljv-rlp.de/termin/regionalkonferenz-in-der-region-westerwald-zu-afrikanische-schweinepest-bei-wildschweinen/
LOCATION:Bürgerhaus Wirges\, Montchaninplatz 1\, Wirges\, Rheinland-Pfalz\, 56422\, Deutschland
CATEGORIES:Seminare
GEO:50.4682916;7.7984316
X-APPLE-STRUCTURED-LOCATION;VALUE=URI;X-ADDRESS=Bürgerhaus Wirges Montchaninplatz 1 Wirges Rheinland-Pfalz 56422 Deutschland;X-APPLE-RADIUS=500;X-TITLE=Montchaninplatz 1:geo:7.7984316,50.4682916
END:VEVENT
END:VCALENDAR