BEGIN:VCALENDAR
VERSION:2.0
PRODID:-//Landesjagdverband Rheinland-Pfalz e.V. - ECPv6.10.2//NONSGML v1.0//EN
CALSCALE:GREGORIAN
METHOD:PUBLISH
X-ORIGINAL-URL:https://ljv-rlp.de
X-WR-CALDESC:Veranstaltungen für Landesjagdverband Rheinland-Pfalz e.V.
REFRESH-INTERVAL;VALUE=DURATION:PT1H
X-Robots-Tag:noindex
X-PUBLISHED-TTL:PT1H
BEGIN:VTIMEZONE
TZID:Europe/Berlin
BEGIN:DAYLIGHT
TZOFFSETFROM:+0100
TZOFFSETTO:+0200
TZNAME:CEST
DTSTART:20180325T010000
END:DAYLIGHT
BEGIN:STANDARD
TZOFFSETFROM:+0200
TZOFFSETTO:+0100
TZNAME:CET
DTSTART:20181028T010000
END:STANDARD
END:VTIMEZONE
BEGIN:VEVENT
DTSTART;TZID=Europe/Berlin:20180810T190000
DTEND;TZID=Europe/Berlin:20180810T213000
DTSTAMP:20260422T203824
CREATED:20180621T090241Z
LAST-MODIFIED:20190131T154705Z
UID:10001279-1533927600-1533936600@ljv-rlp.de
SUMMARY:Regionalkonferenz in der Region Eifel zur Afrikanischen Schweinepest bei Wildschweinen
DESCRIPTION:Die fortschreitende Ausbreitung der Afrikanischen Schweinepest (ASP) in Nord- und Osteuropa wird insbesondere von Schweinehaltern und angegliederten Wirtschaftszweigen\, Jägern\, Tierärzten sowie der Veterinär- und Jagdverwaltung mit großer Sorge betrachtet. Um Sie über den aktuellen Stand\, die Präventionsmaßnahmen zur ASP sowie über jagdliche Möglichkeiten und wildbiologische Zusammenhänge zu informieren und zu diskutieren lädt das Ministerium für Umwelt\, Energie\, Ernährung und Forsten zu vier Regionalkonferenzen ein. \nProgramm\n19.00 Uhr: Begrüßung und Einführung durch Frau Ministerin Ulrike Höfken \n19:15 Uhr: Afrikanische Schweinepest – warum ist sie so tückisch? Was kann ich als Jäger tun? Und was passiert im Falle eines Ausbruchs? (Dr. Julia Blicke\, Oberste Veterinärbehörde RLP) \n19:40 Uhr: Die Biologie des Schwarzwildes (Dr. Ulf Hohmann\, Forschungsanstalt für Waldökologie und Forstwirtschaft RLP) \n20:05 Uhr: Jagdstreckenentwicklung des Schwarzwildes in Rheinland-Pfalz und jagdliche Möglichkeiten der Reduktion (Reinhold Rosenbach\, Oberste Jagdbehörde RLP) \n20:30 Uhr: Austausch und Diskussion zur Klärung regionaler Fragen \n21:30 Uhr: Ende der Veranstaltung \nModeration: Kerstin Ramm\, Ministerium für Umwelt\, Energie\, Ernährung und Forsten
URL:https://ljv-rlp.de/termin/regionalkonferenz-in-der-region-eifel-zu-afrikanische-schweinepest-bei-wildschweinen/
LOCATION:Gäste- und Veranstaltungszentrum FORUM DAUN\, Leopoldstraße 5\, Daun\, Rheinland-Pfalz\, 54550\, Deutschland
CATEGORIES:Seminare
GEO:50.1981713;6.8301167
X-APPLE-STRUCTURED-LOCATION;VALUE=URI;X-ADDRESS=Gäste- und Veranstaltungszentrum FORUM DAUN Leopoldstraße 5 Daun Rheinland-Pfalz 54550 Deutschland;X-APPLE-RADIUS=500;X-TITLE=Leopoldstraße 5:geo:6.8301167,50.1981713
END:VEVENT
END:VCALENDAR