BEGIN:VCALENDAR
VERSION:2.0
PRODID:-//Landesjagdverband Rheinland-Pfalz e.V. - ECPv6.10.2//NONSGML v1.0//EN
CALSCALE:GREGORIAN
METHOD:PUBLISH
X-ORIGINAL-URL:https://ljv-rlp.de
X-WR-CALDESC:Veranstaltungen für Landesjagdverband Rheinland-Pfalz e.V.
REFRESH-INTERVAL;VALUE=DURATION:PT1H
X-Robots-Tag:noindex
X-PUBLISHED-TTL:PT1H
BEGIN:VTIMEZONE
TZID:Europe/Berlin
BEGIN:DAYLIGHT
TZOFFSETFROM:+0100
TZOFFSETTO:+0200
TZNAME:CEST
DTSTART:20180325T010000
END:DAYLIGHT
BEGIN:STANDARD
TZOFFSETFROM:+0200
TZOFFSETTO:+0100
TZNAME:CET
DTSTART:20181028T010000
END:STANDARD
END:VTIMEZONE
BEGIN:VEVENT
DTSTART;TZID=Europe/Berlin:20180621T170000
DTEND;TZID=Europe/Berlin:20180621T200000
DTSTAMP:20260422T234036
CREATED:20180619T131819Z
LAST-MODIFIED:20190131T154705Z
UID:10001278-1529600400-1529611200@ljv-rlp.de
SUMMARY:Exkursion und Info-Veranstaltung Naturschutzmaßnahmen in der Feldflur
DESCRIPTION:Programm:\n\n\n\n\nBienensterben\, Insektentod\, Rebhuhn und Wachtel vor dem Verschwinden. Um viele Tier- und Pflanzenarten in unseren Feldfluren ist es nicht gut bestellt. Rund zwei Drittel aller Offenlandarten stehen auf der Roten Liste des Bundesländer. \nDas Problem ist mittlerweile in der Öffentlichkeit angekommen. Längst nicht mehr nur bei Jägern und Naturschützern\, sondern auch bei den Landnutzern. Fast alle Beteiligten sind bereit\, etwas für den Artenschutz zu tun. \nWelche Maßnahmen sind sinnvoll?\nWie soll was im Einzelfall praktisch umgesetzt werden?\nWas für Mögichkeiten der Finanzierung / Förderung gibt es? \nDie Veranstaltung will praktische Lösungen aufzeigen und somit Impulse setzen für mehr Naturschutz in der ackerbaulich genutzten Feldflur.
URL:https://ljv-rlp.de/termin/exkursion-und-info-veranstaltung-naturschutzmassnahmen-in-der-feldflur/
LOCATION:Haus der Vereine\, Hauptstraße 27\, Einselthum\, Rheinland-Pfalz\, 67308\, Deutschland
CATEGORIES:Seminare
GEO:49.65238;8.1256099
X-APPLE-STRUCTURED-LOCATION;VALUE=URI;X-ADDRESS=Haus der Vereine Hauptstraße 27 Einselthum Rheinland-Pfalz 67308 Deutschland;X-APPLE-RADIUS=500;X-TITLE=Hauptstraße 27:geo:8.1256099,49.65238
END:VEVENT
END:VCALENDAR