BEGIN:VCALENDAR
VERSION:2.0
PRODID:-//Landesjagdverband Rheinland-Pfalz e.V. - ECPv6.10.2//NONSGML v1.0//EN
CALSCALE:GREGORIAN
METHOD:PUBLISH
X-WR-CALNAME:Landesjagdverband Rheinland-Pfalz e.V.
X-ORIGINAL-URL:https://ljv-rlp.de
X-WR-CALDESC:Veranstaltungen für Landesjagdverband Rheinland-Pfalz e.V.
REFRESH-INTERVAL;VALUE=DURATION:PT1H
X-Robots-Tag:noindex
X-PUBLISHED-TTL:PT1H
BEGIN:VTIMEZONE
TZID:Europe/Berlin
BEGIN:DAYLIGHT
TZOFFSETFROM:+0100
TZOFFSETTO:+0200
TZNAME:CEST
DTSTART:20180325T010000
END:DAYLIGHT
BEGIN:STANDARD
TZOFFSETFROM:+0200
TZOFFSETTO:+0100
TZNAME:CET
DTSTART:20181028T010000
END:STANDARD
END:VTIMEZONE
BEGIN:VEVENT
DTSTART;VALUE=DATE:20180518
DTEND;VALUE=DATE:20180520
DTSTAMP:20260423T011855
CREATED:20180405T135226Z
LAST-MODIFIED:20190131T154705Z
UID:10001267-1526601600-1526774399@ljv-rlp.de
SUMMARY:Wildbrethygiene und -verwertung mit 2 Ansitz (Schwarz- und Rehwild)
DESCRIPTION:Dieses Seminar ist ausgebucht. Teilnahme nur noch über Warteliste möglich. Bitte nehmen Sie hierzu telefonisch Kontakt mit uns auf (06727 8944-0).\nEs werden alle Aspekte der Wildbrethygiene für den selbst vermarktenden Jäger in Theorie und Praxis\, einschließlich Maßnahmen im Rahmen einer Ansitzjagd\, Wildversorgung\, Zerwirken und Verkostung\, intensiv behandelt. Das Angebot richtet sich bevorzugt an Jäger\, die regelmäßig Wild verwerten\, vermarkten und sich darüber hinaus besondere Kenntnisse auf diesem Gebiet aneignen wollen. Den Lehrgang veranstalten wir im Rahmen unserer Wildbretinitiative in Kooperation mit dem FoA Soonwald. \nDie Lehrgangsgebühr beinhaltet u. a. die Tagungsgetränke\, das Frühstück und Mittagessen am 19. Mai sowie einen Abend- (18. Mai) und einen Morgenansitz (19. Mai) auf Reh- und Schwarzwild\, inkl. Abschussgebühren (für evtl. erlegte stärkere Böcke wird zusätzlich ein geringes Abschussentgelt erhoben). Nähere Informationen hierzu erteilt das FoA zu Beginn des Lehrganges. Ein gültiger Jagdschein ist Voraussetzung\, eigene Waffen sind mitzubringen. \nTeilnehmerzahl:\nmax. 20 Personen \nDie Seminargebühren betragen für LJV-Mitglieder 200\,00 Euro und für Nichtmitglieder 250\,00 Euro. \nDie Gebühren sind nach Erhalt der Rechnung unter Angabe der Rechnungsnummer zu zahlen. \nEine Teilnahme kann nur gewährleistet werden\, wenn die Gebühren ordnungsgemäß 14 Tage vor Lehrgangsbeginn eingegangen sind. \nAnfragen bitte nur an: \nLJV-Geschäftsstelle\nTelefon: 06727 8944-0\nFax: 06727 8944-22\nE-Mail: info@ljv-rlp.de \nFür eventuelle Unterkunft und Verpflegung haben die Seminarteilnehmer selbst Sorge zu tragen. \nZeitplanänderungen vorbehalten!
URL:https://ljv-rlp.de/termin/wildbrethygiene-und-verwertung-mit-2-ansitz-schwarz-und-rehwild/
LOCATION:Landesjagdverband Rheinland-Pfalz e.V.\, Fasanerie 1\, Gensingen\, Rheinland-Pfalz\, 55457\, Deutschland
CATEGORIES:Seminare
ATTACH;FMTTYPE=image/jpeg:https://ljv-rlp.de/wp-content/uploads/2018/04/Wildbret-Soonwald.jpg
GEO:49.8966084;7.9177049
X-APPLE-STRUCTURED-LOCATION;VALUE=URI;X-ADDRESS=Landesjagdverband Rheinland-Pfalz e.V. Fasanerie 1 Gensingen Rheinland-Pfalz 55457 Deutschland;X-APPLE-RADIUS=500;X-TITLE=Fasanerie 1:geo:7.9177049,49.8966084
END:VEVENT
END:VCALENDAR