BEGIN:VCALENDAR
VERSION:2.0
PRODID:-//Landesjagdverband Rheinland-Pfalz e.V. - ECPv6.10.2//NONSGML v1.0//EN
CALSCALE:GREGORIAN
METHOD:PUBLISH
X-WR-CALNAME:Landesjagdverband Rheinland-Pfalz e.V.
X-ORIGINAL-URL:https://ljv-rlp.de
X-WR-CALDESC:Veranstaltungen für Landesjagdverband Rheinland-Pfalz e.V.
REFRESH-INTERVAL;VALUE=DURATION:PT1H
X-Robots-Tag:noindex
X-PUBLISHED-TTL:PT1H
BEGIN:VTIMEZONE
TZID:Europe/Berlin
BEGIN:DAYLIGHT
TZOFFSETFROM:+0100
TZOFFSETTO:+0200
TZNAME:CEST
DTSTART:20180325T010000
END:DAYLIGHT
BEGIN:STANDARD
TZOFFSETFROM:+0200
TZOFFSETTO:+0100
TZNAME:CET
DTSTART:20181028T010000
END:STANDARD
END:VTIMEZONE
BEGIN:VEVENT
DTSTART;TZID=Europe/Berlin:20180512T090000
DTEND;TZID=Europe/Berlin:20180512T170000
DTSTAMP:20260423T011923
CREATED:20180405T135842Z
LAST-MODIFIED:20190131T154705Z
UID:10001268-1526115600-1526144400@ljv-rlp.de
SUMMARY:Kräuterwanderung und Wildes Grillen
DESCRIPTION:Der Sommer ist die Saison der Gartenkräuter und Grillmeister. Am Seminarvormittag findet eine Kräuterwanderung mit der Waldhexe Gudrun Krennrich durch das Lehrrevier Weinsheim statt. Die erkannten und gesammelten Kräuter werden dann zu den am Nachmittag selbst zubereiteten Wildfleischköstlichkeiten vom Grill angerichtet. Die drei Referenten zeigen\, wie man aus verschiedenen Kräutern und Wildfleischsorten tolle Gerichte auf dem Grill zaubern und dabei die Kräuter aus dem Revier als Geschmacksverstärker und Beilagen nutzen kann. \nTeilnehmerzahl:\nmax. 20 Personen \nDie Seminargebühren betragen für LJV-Mitglieder 70\,00 Euro und für Nichtmitglieder 120\,00 Euro (incl. Essen und Getränke). \nDie Gebühren sind nach Erhalt der Rechnung unter Angabe der Rechnungsnummer zu zahlen. \nEine Teilnahme kann nur gewährleistet werden\, wenn die Gebühren ordnungsgemäß 14 Tage vor Lehrgangsbeginn eingegangen sind. \nAnfragen bitte nur an: \nLJV-Geschäftsstelle\nTelefon: 06727 8944-0\nFax: 06727 8944-22\nE-Mail: info@ljv-rlp.de \nFür eventuelle Unterkunft und Verpflegung haben die Seminarteilnehmer selbst Sorge zu tragen. \nZeitplanänderungen vorbehalten!
URL:https://ljv-rlp.de/termin/kraeuterwanderung-und-wildes-grillen/
LOCATION:Landesjagdverband Rheinland-Pfalz e.V.\, Fasanerie 1\, Gensingen\, Rheinland-Pfalz\, 55457\, Deutschland
CATEGORIES:Seminare
ATTACH;FMTTYPE=image/jpeg:https://ljv-rlp.de/wp-content/uploads/2018/04/Krauterwandern-Wildes-Grillen.jpg
GEO:49.8966084;7.9177049
X-APPLE-STRUCTURED-LOCATION;VALUE=URI;X-ADDRESS=Landesjagdverband Rheinland-Pfalz e.V. Fasanerie 1 Gensingen Rheinland-Pfalz 55457 Deutschland;X-APPLE-RADIUS=500;X-TITLE=Fasanerie 1:geo:7.9177049,49.8966084
END:VEVENT
END:VCALENDAR